BEGIN:VCALENDAR
VERSION:2.0
PRODID:-//J Family Service - ECPv6.15.20//NONSGML v1.0//EN
CALSCALE:GREGORIAN
METHOD:PUBLISH
X-WR-CALNAME:J Family Service
X-ORIGINAL-URL:https://jfamilyservice.org
X-WR-CALDESC:Events for J Family Service
REFRESH-INTERVAL;VALUE=DURATION:PT1H
X-Robots-Tag:noindex
X-PUBLISHED-TTL:PT1H
BEGIN:VTIMEZONE
TZID:America/Chicago
BEGIN:DAYLIGHT
TZOFFSETFROM:-0600
TZOFFSETTO:-0500
TZNAME:CDT
DTSTART:20160313T080000
END:DAYLIGHT
BEGIN:STANDARD
TZOFFSETFROM:-0500
TZOFFSETTO:-0600
TZNAME:CST
DTSTART:20161106T070000
END:STANDARD
BEGIN:DAYLIGHT
TZOFFSETFROM:-0600
TZOFFSETTO:-0500
TZNAME:CDT
DTSTART:20170312T080000
END:DAYLIGHT
BEGIN:STANDARD
TZOFFSETFROM:-0500
TZOFFSETTO:-0600
TZNAME:CST
DTSTART:20171105T070000
END:STANDARD
BEGIN:DAYLIGHT
TZOFFSETFROM:-0600
TZOFFSETTO:-0500
TZNAME:CDT
DTSTART:20180311T080000
END:DAYLIGHT
BEGIN:STANDARD
TZOFFSETFROM:-0500
TZOFFSETTO:-0600
TZNAME:CST
DTSTART:20181104T070000
END:STANDARD
END:VTIMEZONE
BEGIN:VEVENT
DTSTART;TZID=America/Chicago:20170622T180000
DTEND;TZID=America/Chicago:20170622T193000
DTSTAMP:20260420T085143
CREATED:20240116T231110Z
LAST-MODIFIED:20240116T231110Z
UID:2432-1498154400-1498159800@jfamilyservice.org
SUMMARY:Monster Yogurt Night with JFS and PJ Library
DESCRIPTION:Join PJ Library\, JFS\, & Monster Yogurt for a yummy and fun evening! \nThursday\, June 22 from 6:00pm – 7:30pm \nPJ Library and the Special Needs Partnership invite families with children who have special needs to meet new people\, catch up with old friends\, and enjoy craft-time. \nMonster Yogurt (1360 W Campbell Rd\, Richardson\, TX) \nDrop in anytime between 6:00pm – 7:30pm \n*Crafts and fun FREE of charge \nYogurt at your own cost \nRSVP encouraged but not required (vcathcart@jfamilyservice.org) \nJFS will receive a portion of the profit from sales purchased this evening from Monster Yogurt. So please feel free to stop by and get some yummy yogurt for a good cause! \nAbout the Special Needs Partnership: \nThe JFS Special Needs Partnership (SNP)\, a collaborative initiative with community partners\, furthers special needs awareness and inclusion through corporate and school education and community programming. Through specific outreach programs such as the Inclusion Experience and the JFS Special Needs Resource Team\, SNP professionals and volunteers educate community leaders\, teachers and parents to understand more and give them the tools to make positive changes in the lives of those with special needs. \nAbout PJ Library: \nReading stories and listening to music with your child are among the most powerful and nurturing early childhood learning experience. PJ (pajama) Library can help you transform these moments into Jewish moments. Each month your child will receive an envelope addressed to them with an age-appropriate FREE Jewish book or music CD. A family must have children from 6 months to 8 years old with one Jewish parent in the household and reside in the Dallas area. \nPJ Library is made possible by the Harold Grinspoon Foundation and is a gift from the Center for Jewish Education of the Jewish Federation of Greater Dallas through a generous grant from the Mankoff Family Foundation.
URL:https://jfamilyservice.org/event/monster-yogurt-night-jfs-pj-library/
LOCATION:Monster Yogurt\, 1360 W Campbell Rd\, Richardson\, TX\, United States
CATEGORIES:Special Needs
ORGANIZER;CN="Friendship Circle of Dallas":MAILTO:leah@friendshipdallas.org
GEO:32.9803199;-96.7663738
X-APPLE-STRUCTURED-LOCATION;VALUE=URI;X-ADDRESS=Monster Yogurt 1360 W Campbell Rd Richardson TX United States;X-APPLE-RADIUS=500;X-TITLE=1360 W Campbell Rd:geo:-96.7663738,32.9803199
END:VEVENT
END:VCALENDAR