BEGIN:VCALENDAR
VERSION:2.0
PRODID:-//J Family Service - ECPv6.15.20//NONSGML v1.0//EN
CALSCALE:GREGORIAN
METHOD:PUBLISH
X-WR-CALNAME:J Family Service
X-ORIGINAL-URL:https://jfamilyservice.org
X-WR-CALDESC:Events for J Family Service
REFRESH-INTERVAL;VALUE=DURATION:PT1H
X-Robots-Tag:noindex
X-PUBLISHED-TTL:PT1H
BEGIN:VTIMEZONE
TZID:America/Chicago
BEGIN:DAYLIGHT
TZOFFSETFROM:-0600
TZOFFSETTO:-0500
TZNAME:CDT
DTSTART:20180311T080000
END:DAYLIGHT
BEGIN:STANDARD
TZOFFSETFROM:-0500
TZOFFSETTO:-0600
TZNAME:CST
DTSTART:20181104T070000
END:STANDARD
BEGIN:DAYLIGHT
TZOFFSETFROM:-0600
TZOFFSETTO:-0500
TZNAME:CDT
DTSTART:20190310T080000
END:DAYLIGHT
BEGIN:STANDARD
TZOFFSETFROM:-0500
TZOFFSETTO:-0600
TZNAME:CST
DTSTART:20191103T070000
END:STANDARD
BEGIN:DAYLIGHT
TZOFFSETFROM:-0600
TZOFFSETTO:-0500
TZNAME:CDT
DTSTART:20200308T080000
END:DAYLIGHT
BEGIN:STANDARD
TZOFFSETFROM:-0500
TZOFFSETTO:-0600
TZNAME:CST
DTSTART:20201101T070000
END:STANDARD
BEGIN:DAYLIGHT
TZOFFSETFROM:-0600
TZOFFSETTO:-0500
TZNAME:CDT
DTSTART:20210314T080000
END:DAYLIGHT
BEGIN:STANDARD
TZOFFSETFROM:-0500
TZOFFSETTO:-0600
TZNAME:CST
DTSTART:20211107T070000
END:STANDARD
END:VTIMEZONE
BEGIN:VEVENT
DTSTART;TZID=America/Chicago:20200207T183000
DTEND;TZID=America/Chicago:20200207T213000
DTSTAMP:20260419T073230
CREATED:20240116T231324Z
LAST-MODIFIED:20240116T231324Z
UID:6620-1581100200-1581111000@jfamilyservice.org
SUMMARY:Anshai Torah Special Needs Shabbat
DESCRIPTION:
URL:https://jfamilyservice.org/event/anshai-torah-special-needs-shabbat/
LOCATION:Anshai Torah\, 5501 Parker Rd\, Plano\,\, TX\, 75093\, United States
CATEGORIES:Special Needs
END:VEVENT
BEGIN:VEVENT
DTSTART;TZID=America/Chicago:20190124T183000
DTEND;TZID=America/Chicago:20190124T210000
DTSTAMP:20260419T073230
CREATED:20240116T231201Z
LAST-MODIFIED:20240116T231201Z
UID:4805-1548354600-1548363600@jfamilyservice.org
SUMMARY:Anshai Torah Special Needs Shabbat Story and Dinner
DESCRIPTION:Join Anshai Torah to hear a compelling story of a school where at-risk youth live and the man who acts as their father figure. Yehuda Kohn is the guest speaker. \n\n\n6:30PM Kabbalat Shabbat Service is open to the community. \n\n\nTickets are required for dinner: $18/Adult $10/child 4-10. $54 Fam. Max. Deadline to RSVP is February 1\, 2019. \n\n\nFriday\, February 8\, 2019 \n\n\n6:30pm-9:00pm \n\n\n5501 Parker Rd\, Plano\, TX 75093
URL:https://jfamilyservice.org/event/anshai-torah-special-needs-shabbat-story-and-dinner/
LOCATION:Anshai Torah\, 5501 Parker Rd\, Plano\,\, TX\, 75093\, United States
CATEGORIES:Special Needs
END:VEVENT
END:VCALENDAR