BEGIN:VCALENDAR
VERSION:2.0
PRODID:-//J Family Service - ECPv6.15.20//NONSGML v1.0//EN
CALSCALE:GREGORIAN
METHOD:PUBLISH
X-WR-CALNAME:J Family Service
X-ORIGINAL-URL:https://jfamilyservice.org
X-WR-CALDESC:Events for J Family Service
REFRESH-INTERVAL;VALUE=DURATION:PT1H
X-Robots-Tag:noindex
X-PUBLISHED-TTL:PT1H
BEGIN:VTIMEZONE
TZID:America/Chicago
BEGIN:DAYLIGHT
TZOFFSETFROM:-0600
TZOFFSETTO:-0500
TZNAME:CDT
DTSTART:20220313T080000
END:DAYLIGHT
BEGIN:STANDARD
TZOFFSETFROM:-0500
TZOFFSETTO:-0600
TZNAME:CST
DTSTART:20221106T070000
END:STANDARD
BEGIN:DAYLIGHT
TZOFFSETFROM:-0600
TZOFFSETTO:-0500
TZNAME:CDT
DTSTART:20230312T080000
END:DAYLIGHT
BEGIN:STANDARD
TZOFFSETFROM:-0500
TZOFFSETTO:-0600
TZNAME:CST
DTSTART:20231105T070000
END:STANDARD
BEGIN:DAYLIGHT
TZOFFSETFROM:-0600
TZOFFSETTO:-0500
TZNAME:CDT
DTSTART:20240310T080000
END:DAYLIGHT
BEGIN:STANDARD
TZOFFSETFROM:-0500
TZOFFSETTO:-0600
TZNAME:CST
DTSTART:20241103T070000
END:STANDARD
END:VTIMEZONE
BEGIN:VEVENT
DTSTART;TZID=America/Chicago:20231102T183000
DTEND;TZID=America/Chicago:20231102T203000
DTSTAMP:20260425T080324
CREATED:20230713T160424Z
LAST-MODIFIED:20230713T160424Z
UID:26566-1698949800-1698957000@jfamilyservice.org
SUMMARY:Society of Life Reception
DESCRIPTION:
URL:https://jfamilyservice.org/event/society-of-life-reception/
LOCATION:5435 Meadders Lane Dallas 75229\, 5435 Meadders Lane\, Dallas\, 75229
END:VEVENT
END:VCALENDAR