BEGIN:VCALENDAR
VERSION:2.0
PRODID:-//J Family Service - ECPv6.15.20//NONSGML v1.0//EN
CALSCALE:GREGORIAN
METHOD:PUBLISH
X-ORIGINAL-URL:https://jfamilyservice.org
X-WR-CALDESC:Events for J Family Service
REFRESH-INTERVAL;VALUE=DURATION:PT1H
X-Robots-Tag:noindex
X-PUBLISHED-TTL:PT1H
BEGIN:VTIMEZONE
TZID:America/Chicago
BEGIN:DAYLIGHT
TZOFFSETFROM:-0600
TZOFFSETTO:-0500
TZNAME:CDT
DTSTART:20230312T080000
END:DAYLIGHT
BEGIN:STANDARD
TZOFFSETFROM:-0500
TZOFFSETTO:-0600
TZNAME:CST
DTSTART:20231105T070000
END:STANDARD
BEGIN:DAYLIGHT
TZOFFSETFROM:-0600
TZOFFSETTO:-0500
TZNAME:CDT
DTSTART:20240310T080000
END:DAYLIGHT
BEGIN:STANDARD
TZOFFSETFROM:-0500
TZOFFSETTO:-0600
TZNAME:CST
DTSTART:20241103T070000
END:STANDARD
BEGIN:DAYLIGHT
TZOFFSETFROM:-0600
TZOFFSETTO:-0500
TZNAME:CDT
DTSTART:20250309T080000
END:DAYLIGHT
BEGIN:STANDARD
TZOFFSETFROM:-0500
TZOFFSETTO:-0600
TZNAME:CST
DTSTART:20251102T070000
END:STANDARD
END:VTIMEZONE
BEGIN:VEVENT
DTSTART;TZID=America/Chicago:20240930T173000
DTEND;TZID=America/Chicago:20240930T183000
DTSTAMP:20260422T224440
CREATED:20190523T172313Z
LAST-MODIFIED:20190523T172313Z
UID:27174-1727717400-1727721000@jfamilyservice.org
SUMMARY:Women's Trauma Support Group
DESCRIPTION:For women who have been impacted by trauma and family violence on Mondays at 5:30 pm. The group is a psychotherapy process group that focuses on interpersonal relationships\, healing\, psychoeducation\, and coping strategies and tools. \nFor more information\, get location\, and to enroll\, please contact Terah Culp\, MA\, LPC\, Clinical Therapist\, at 972.437.9950 x285 or tculp@jfamilyservice.org
URL:https://jfamilyservice.org/event/abuse-support-group-women/2024-09-30/
LOCATION:Other\, United States
CATEGORIES:Jewish Family Service Event,Support Group
ORGANIZER;CN="Terah Culp":MAILTO:tculp@jfamilyservice.org
GEO:37.09024;-95.712891
END:VEVENT
BEGIN:VEVENT
DTSTART;TZID=America/Chicago:20240930T173000
DTEND;TZID=America/Chicago:20240930T190000
DTSTAMP:20260422T224440
CREATED:20190523T172313Z
LAST-MODIFIED:20190523T172313Z
UID:27175-1727717400-1727722800@jfamilyservice.org
SUMMARY:Womens Trauma Group
DESCRIPTION:For women who have been impacted by trauma and abuse on Mondays at 5:30 pm. This psychotherapy group incorporating expressive arts is facilitated by female therapists. \nFor more information to enroll\, please contact Terah Culp\, MA\, LPC\,  at 469-206-1642.
URL:https://jfamilyservice.org/event/abuse-support-group-women-2021-03-01/2024-09-30/
LOCATION:Other\, United States
CATEGORIES:Jewish Family Service Event
ORGANIZER;CN="Janelle Gibson":MAILTO:jgibson@jfamilyservice.org
GEO:37.09024;-95.712891
END:VEVENT
BEGIN:VEVENT
DTSTART;TZID=America/Chicago:20240930T183000
DTEND;TZID=America/Chicago:20240930T200000
DTSTAMP:20260422T224440
CREATED:20220914T125557Z
LAST-MODIFIED:20220914T125557Z
UID:27176-1727721000-1727726400@jfamilyservice.org
SUMMARY:Dialectical Behavior Therapy (DBT) Group Class
DESCRIPTION:Dialectical Behavior Therapy (DBT) is an Evidence-Based Treatment shown to be effective with: \n• Controlling life-threatening and quality-of-life interfering behaviors \n• Regulating intense\, painful emotions \n• Managing difficult interpersonal relationships \n• Fostering more life balance \n• Creating a life worth living \n  \nSkills you will develop with this six-week course: Mindfulness\, Interpersonal Effectiveness\, Emotion Regulation\, Distress Tolerance\, and Middle Path \n  \nCandidate Requirements: \n• Adult Men and Women \n• Must be pre-screened prior to the start date of classes \n• Also be in Concurrent Individual Therapy \n  \nSkills are taught in modules lasting six weeks and are open to new candidates at the start of a new module. \nFor more information and to get in the next group class\, Contact Nancy Hall\, MA\, LPC at nhall@jfamilyservice.org or 214.887.1364 x272. \n  \nMonday Evenings from 6:30PM-8:00PM \n 
URL:https://jfamilyservice.org/event/dialectical-behavior-therapy-dbt-group-class/2024-09-30/
LOCATION:Other\, United States
CATEGORIES:Support Group
ORGANIZER;CN="Nancy Hall":MAILTO:nhall@jfamilyservice.org
GEO:37.09024;-95.712891
END:VEVENT
BEGIN:VEVENT
DTSTART;TZID=America/Chicago:20241001T103000
DTEND;TZID=America/Chicago:20241001T113000
DTSTAMP:20260422T224440
CREATED:20190523T170407Z
LAST-MODIFIED:20190523T170407Z
UID:27182-1727778600-1727782200@jfamilyservice.org
SUMMARY:Caring for the Caregivers (TE)
DESCRIPTION:For all family caregivers\, this group\, facilitated by an elder-care professional\, will help you learn how to best care for your loved one—and yourself. Please join us for discussion and support. First Tuesday of every month\, at 10:30 am. Temple Emanu-El\, 8500 Hillcrest\, Dallas\, TX 75225. No RSVP required. No Charge. For more information\, please contact Abby Goodman\, LCSW at agoodman@JFSdallas.org or 972.437.9950. \n  \nOpen to anyone in need\, our Caregivers Support Groups are for spouses\, adult children and other family members coping with a loved one suffering from dementia or other long-term illnesses. \nFacilitated by our licensed professionals\, these groups provide information and support to help you best care for your loved one\, while caring for yourself.
URL:https://jfamilyservice.org/event/caring-for-the-caregivers-te/2024-10-01/
LOCATION:Temple Emanu-El
CATEGORIES:Jewish Family Service Event
ORGANIZER;CN="Abby Goodman":MAILTO:agoodman@JFSdallas.org
END:VEVENT
BEGIN:VEVENT
DTSTART;TZID=America/Chicago:20241001T103000
DTEND;TZID=America/Chicago:20241001T113000
DTSTAMP:20260422T224440
CREATED:20220308T193704Z
LAST-MODIFIED:20220308T193704Z
UID:27183-1727778600-1727782200@jfamilyservice.org
SUMMARY:Caring for the Caregivers - Support Group
DESCRIPTION:1st Tuesday of the month at 10:30am \n2nd Tuesday of the month at 12:00pm \n  \nFor all family caregivers\, this group\, facilitated by an elder-care professional\, will help you learn how to best care for your loved one—and yourself. \nContact: \nAbigail Goodman\, LCSW at agoodman@jfamilyservice.org \nLicensed Clinical Social Worker\, Older Adults at Jewish Family Service of Greater Dallas \nP: 469.206.1688  I  972.437.9950 x215  I  F: 972.437.1988
URL:https://jfamilyservice.org/event/caring-for-the-caregivers-support-group/2024-10-01/
LOCATION:Other\, United States
CATEGORIES:Support Group
ORGANIZER;CN="Abby Goodman":MAILTO:agoodman@JFSdallas.org
GEO:37.09024;-95.712891
END:VEVENT
BEGIN:VEVENT
DTSTART;TZID=America/Chicago:20241001T141500
DTEND;TZID=America/Chicago:20241001T151500
DTSTAMP:20260422T224440
CREATED:20220314T161328Z
LAST-MODIFIED:20220314T161328Z
UID:27185-1727792100-1727795700@jfamilyservice.org
SUMMARY:Modified Yoga for Cancer Survivors or Individuals with Disabilities
DESCRIPTION:Two times a week at the Jewish Community Center \nContact Beth Broodo at bbroodo@jfamilyservice.org to confirm attendance.
URL:https://jfamilyservice.org/event/modified-yoga-for-cancer-survivors-or-individuals-with-disabilities/2024-10-01/
LOCATION:JCC\, 7900 Northaven Road\, Dallas\, United States
CATEGORIES:Community Event
ORGANIZER;CN="Beth Broodo":MAILTO:bbroodo@jfamilyservice.org
GEO:32.8999972;-96.7734315
X-APPLE-STRUCTURED-LOCATION;VALUE=URI;X-ADDRESS=JCC 7900 Northaven Road Dallas United States;X-APPLE-RADIUS=500;X-TITLE=7900 Northaven Road:geo:-96.7734315,32.8999972
END:VEVENT
BEGIN:VEVENT
DTSTART;TZID=America/Chicago:20241001T173000
DTEND;TZID=America/Chicago:20241001T183000
DTSTAMP:20260422T224440
CREATED:20240918T175321Z
LAST-MODIFIED:20240918T175321Z
UID:29770-1727803800-1727807400@jfamilyservice.org
SUMMARY:The Three Keys to a Successful Job Search
DESCRIPTION:CLICK HERE TO REGISTER\nJoin Jason Hopper\, JFS Career Coach and host of the Caffeinate Your Career Podcast\, as he presents an engaging seminar on the three keys you need to unlock success in your job search. \nIn today’s dynamic job market\, the process of finding employment continues to evolve. Being successful now depends on a large professional network\, maintaining a positive mindset\, and having a reliable support system to navigate the journey to your dream job. \nDon’t miss out on this exclusive seminar and discover how to unlock the doors to your success! \nNOTE: This seminar is free to attend and will be held at Plano Workforce Solutions\, located at 1101 Resource Drive\, Plano\, 75074.
URL:https://jfamilyservice.org/event/the-three-keys-to-a-successful-job-search-3/
LOCATION:Plano Workforce Solutions\, 1101 Resource Drive\, Plano\, 75074
CATEGORIES:Jewish Family Service Event,Networking & Training
ATTACH;FMTTYPE=image/png:https://jfamilyservice.org/wp-content/uploads/2024/09/Three-Keys.png
END:VEVENT
BEGIN:VEVENT
DTSTART;VALUE=DATE:20241002
DTEND;VALUE=DATE:20241003
DTSTAMP:20260422T224440
CREATED:20230828T150719Z
LAST-MODIFIED:20230828T150719Z
UID:26796-1727827200-1727913599@jfamilyservice.org
SUMMARY:Rosh Hashanah - Close at 3pm
DESCRIPTION:The agency will be closed at 3pm on Wednesday\, October 2nd.
URL:https://jfamilyservice.org/event/rosh-hashanah-close-at-3pm/
LOCATION:Other\, United States
GEO:37.09024;-95.712891
END:VEVENT
BEGIN:VEVENT
DTSTART;TZID=America/Chicago:20241002T173000
DTEND;TZID=America/Chicago:20241002T190000
DTSTAMP:20260422T224440
CREATED:20190523T171311Z
LAST-MODIFIED:20190523T171311Z
UID:27189-1727890200-1727895600@jfamilyservice.org
SUMMARY:Men's Group
DESCRIPTION:This process-oriented therapy group covers a wide assortment of issues affecting men including interpersonal relationships\, family conflict & violence\, parenting\, dealing with unpleasant feelings\, coping with anger\, abusive experiences\, and living an honorable life. \nThis group provides an opportunity for men to gain insight\, self-awareness\, and behavioral skill and practice. \nThe group meets weekly – Wednesdays\, 5:30 p.m. to 7 p.m. Pre-registration is required.  \nFor more information\, please contact Mike Ligocki\, PhD at Jewish Family Service 972.437.9950 (ext. 307).
URL:https://jfamilyservice.org/event/mens-group/2024-10-02/
LOCATION:JFS (5402 Arapaho Road\, Dallas 75248)\, 5402 Arapaho Road\, Dallas\, TX\, 75248\, United States
CATEGORIES:Jewish Family Service Event
ORGANIZER;CN="Mike Ligocki":MAILTO:mligocki@jfamilyservice.org
GEO:32.9589497;-96.8191731
X-APPLE-STRUCTURED-LOCATION;VALUE=URI;X-ADDRESS=JFS (5402 Arapaho Road Dallas 75248) 5402 Arapaho Road Dallas TX 75248 United States;X-APPLE-RADIUS=500;X-TITLE=5402 Arapaho Road:geo:-96.8191731,32.9589497
END:VEVENT
BEGIN:VEVENT
DTSTART;VALUE=DATE:20241003
DTEND;VALUE=DATE:20241004
DTSTAMP:20260422T224440
CREATED:20230828T150802Z
LAST-MODIFIED:20230828T150802Z
UID:26798-1727913600-1727999999@jfamilyservice.org
SUMMARY:Rosh Hashanah
DESCRIPTION:The agency will be closed on Thursday\, October 3rd.
URL:https://jfamilyservice.org/event/rosh-hashanah/
LOCATION:Other\, United States
GEO:37.09024;-95.712891
END:VEVENT
BEGIN:VEVENT
DTSTART;VALUE=DATE:20241004
DTEND;VALUE=DATE:20241005
DTSTAMP:20260422T224440
CREATED:20230828T150844Z
LAST-MODIFIED:20230828T150844Z
UID:26800-1728000000-1728086399@jfamilyservice.org
SUMMARY:Rosh Hashanah
DESCRIPTION:The agency will be closed on Friday\, October 4th.
URL:https://jfamilyservice.org/event/rosh-hashanah-2/
LOCATION:Other\, United States
GEO:37.09024;-95.712891
END:VEVENT
END:VCALENDAR