BEGIN:VCALENDAR
VERSION:2.0
PRODID:-//J Family Service - ECPv6.15.20//NONSGML v1.0//EN
CALSCALE:GREGORIAN
METHOD:PUBLISH
X-ORIGINAL-URL:https://jfamilyservice.org
X-WR-CALDESC:Events for J Family Service
REFRESH-INTERVAL;VALUE=DURATION:PT1H
X-Robots-Tag:noindex
X-PUBLISHED-TTL:PT1H
BEGIN:VTIMEZONE
TZID:America/Chicago
BEGIN:DAYLIGHT
TZOFFSETFROM:-0600
TZOFFSETTO:-0500
TZNAME:CDT
DTSTART:20230312T080000
END:DAYLIGHT
BEGIN:STANDARD
TZOFFSETFROM:-0500
TZOFFSETTO:-0600
TZNAME:CST
DTSTART:20231105T070000
END:STANDARD
BEGIN:DAYLIGHT
TZOFFSETFROM:-0600
TZOFFSETTO:-0500
TZNAME:CDT
DTSTART:20240310T080000
END:DAYLIGHT
BEGIN:STANDARD
TZOFFSETFROM:-0500
TZOFFSETTO:-0600
TZNAME:CST
DTSTART:20241103T070000
END:STANDARD
BEGIN:DAYLIGHT
TZOFFSETFROM:-0600
TZOFFSETTO:-0500
TZNAME:CDT
DTSTART:20250309T080000
END:DAYLIGHT
BEGIN:STANDARD
TZOFFSETFROM:-0500
TZOFFSETTO:-0600
TZNAME:CST
DTSTART:20251102T070000
END:STANDARD
END:VTIMEZONE
BEGIN:VEVENT
DTSTART;TZID=America/Chicago:20240923T110000
DTEND;TZID=America/Chicago:20240923T123000
DTSTAMP:20260422T224530
CREATED:20240809T134721Z
LAST-MODIFIED:20240809T134721Z
UID:29488-1727089200-1727094600@jfamilyservice.org
SUMMARY:Microsoft Excel Training - Advanced Level
DESCRIPTION:CLICK HERE TO REGISTER\nOr email Phil Konecki at pkonecki@jfamilyservice.org \nCrank up your Microsoft Excel skills with our 5-day advanced course designed for those who already know the basics. \nIn this webinar\, you’ll learn: \n\nMultilevel Sorting\nAdvanced Mathematical Functions\nLinking with Three-Dimensional References\nAlternative Data Sets\nCharting Mastery\nPivot Tables\n\nJoin us and take your Excel skills to the next level!
URL:https://jfamilyservice.org/event/microsoft-excel-training-advanced-level/
LOCATION:Online
CATEGORIES:Jewish Family Service Event,Networking & Training
ATTACH;FMTTYPE=image/png:https://jfamilyservice.org/wp-content/uploads/2024/08/September-Excel-Advanced.png
END:VEVENT
BEGIN:VEVENT
DTSTART;TZID=America/Chicago:20240923T160000
DTEND;TZID=America/Chicago:20240923T170000
DTSTAMP:20260422T224530
CREATED:20220314T160521Z
LAST-MODIFIED:20220314T160521Z
UID:27152-1727107200-1727110800@jfamilyservice.org
SUMMARY:Breast Cancer Survivor Support Group
DESCRIPTION:Integrating different therapeutic modalities to reduce stress and anxiety as well as increase overall well-being. Open to any woman who has experienced breast cancer\, this group is an opportunity to discuss ways to cope and to find ways to live each day as fully as possible. \n  \nContact Beth Broodo at bbroodo@jfamilyservice.org to get the registration link or more information.
URL:https://jfamilyservice.org/event/breast-cancer-survivor-support-group/2024-09-23/
LOCATION:TX
CATEGORIES:Support Group
ORGANIZER;CN="Beth Broodo":MAILTO:bbroodo@jfamilyservice.org
END:VEVENT
BEGIN:VEVENT
DTSTART;TZID=America/Chicago:20240923T173000
DTEND;TZID=America/Chicago:20240923T183000
DTSTAMP:20260422T224530
CREATED:20190523T172313Z
LAST-MODIFIED:20190523T172313Z
UID:27150-1727112600-1727116200@jfamilyservice.org
SUMMARY:Women's Trauma Support Group
DESCRIPTION:For women who have been impacted by trauma and family violence on Mondays at 5:30 pm. The group is a psychotherapy process group that focuses on interpersonal relationships\, healing\, psychoeducation\, and coping strategies and tools. \nFor more information\, get location\, and to enroll\, please contact Terah Culp\, MA\, LPC\, Clinical Therapist\, at 972.437.9950 x285 or tculp@jfamilyservice.org
URL:https://jfamilyservice.org/event/abuse-support-group-women/2024-09-23/
LOCATION:Other\, United States
CATEGORIES:Jewish Family Service Event,Support Group
ORGANIZER;CN="Terah Culp":MAILTO:tculp@jfamilyservice.org
GEO:37.09024;-95.712891
END:VEVENT
BEGIN:VEVENT
DTSTART;TZID=America/Chicago:20240923T173000
DTEND;TZID=America/Chicago:20240923T190000
DTSTAMP:20260422T224530
CREATED:20190523T172313Z
LAST-MODIFIED:20190523T172313Z
UID:27151-1727112600-1727118000@jfamilyservice.org
SUMMARY:Womens Trauma Group
DESCRIPTION:For women who have been impacted by trauma and abuse on Mondays at 5:30 pm. This psychotherapy group incorporating expressive arts is facilitated by female therapists. \nFor more information to enroll\, please contact Terah Culp\, MA\, LPC\,  at 469-206-1642.
URL:https://jfamilyservice.org/event/abuse-support-group-women-2021-03-01/2024-09-23/
LOCATION:Other\, United States
CATEGORIES:Jewish Family Service Event
ORGANIZER;CN="Janelle Gibson":MAILTO:jgibson@jfamilyservice.org
GEO:37.09024;-95.712891
END:VEVENT
BEGIN:VEVENT
DTSTART;TZID=America/Chicago:20240923T183000
DTEND;TZID=America/Chicago:20240923T200000
DTSTAMP:20260422T224530
CREATED:20220914T125557Z
LAST-MODIFIED:20220914T125557Z
UID:27153-1727116200-1727121600@jfamilyservice.org
SUMMARY:Dialectical Behavior Therapy (DBT) Group Class
DESCRIPTION:Dialectical Behavior Therapy (DBT) is an Evidence-Based Treatment shown to be effective with: \n• Controlling life-threatening and quality-of-life interfering behaviors \n• Regulating intense\, painful emotions \n• Managing difficult interpersonal relationships \n• Fostering more life balance \n• Creating a life worth living \n  \nSkills you will develop with this six-week course: Mindfulness\, Interpersonal Effectiveness\, Emotion Regulation\, Distress Tolerance\, and Middle Path \n  \nCandidate Requirements: \n• Adult Men and Women \n• Must be pre-screened prior to the start date of classes \n• Also be in Concurrent Individual Therapy \n  \nSkills are taught in modules lasting six weeks and are open to new candidates at the start of a new module. \nFor more information and to get in the next group class\, Contact Nancy Hall\, MA\, LPC at nhall@jfamilyservice.org or 214.887.1364 x272. \n  \nMonday Evenings from 6:30PM-8:00PM \n 
URL:https://jfamilyservice.org/event/dialectical-behavior-therapy-dbt-group-class/2024-09-23/
LOCATION:Other\, United States
CATEGORIES:Support Group
ORGANIZER;CN="Nancy Hall":MAILTO:nhall@jfamilyservice.org
GEO:37.09024;-95.712891
END:VEVENT
BEGIN:VEVENT
DTSTART;TZID=America/Chicago:20240924T141500
DTEND;TZID=America/Chicago:20240924T151500
DTSTAMP:20260422T224530
CREATED:20220314T161328Z
LAST-MODIFIED:20220314T161328Z
UID:27158-1727187300-1727190900@jfamilyservice.org
SUMMARY:Modified Yoga for Cancer Survivors or Individuals with Disabilities
DESCRIPTION:Two times a week at the Jewish Community Center \nContact Beth Broodo at bbroodo@jfamilyservice.org to confirm attendance.
URL:https://jfamilyservice.org/event/modified-yoga-for-cancer-survivors-or-individuals-with-disabilities/2024-09-24/
LOCATION:JCC\, 7900 Northaven Road\, Dallas\, United States
CATEGORIES:Community Event
ORGANIZER;CN="Beth Broodo":MAILTO:bbroodo@jfamilyservice.org
GEO:32.8999972;-96.7734315
X-APPLE-STRUCTURED-LOCATION;VALUE=URI;X-ADDRESS=JCC 7900 Northaven Road Dallas United States;X-APPLE-RADIUS=500;X-TITLE=7900 Northaven Road:geo:-96.7734315,32.8999972
END:VEVENT
BEGIN:VEVENT
DTSTART;TZID=America/Chicago:20240924T200000
DTEND;TZID=America/Chicago:20240924T210000
DTSTAMP:20260422T224530
CREATED:20240726T163244Z
LAST-MODIFIED:20240726T163244Z
UID:29325-1727208000-1727211600@jfamilyservice.org
SUMMARY:Guided Fertility Support Group for Jewish Women
DESCRIPTION:If you or someone you know is facing fertility challenges\, consider joining Beth Broodo’s 4-week Guided Fertility Support Group for Jewish Women. This group will meet on Zoom every Thursday in September at 8 PM. \n  \nWhat to Expect \n\nInsightful Discussions\nOriented Workshops\nRelaxation Breathing\nHeart Math Practices\nGuided Imagery\nTapping/EFT\n\n  \nDetails \n\nThursdays\, September 3\, 10\, 17\, 24\n8:00-9:00pm (CST) on ZOOM\nNo cost to join\n\nPlease fill out this FORM and Beth Broodo with contact you with instructions on how to join. You can also reach Beth at bbroodo@jfamilyservice.org or call 214-663-9157 \n 
URL:https://jfamilyservice.org/event/guided-fertility-support-group-for-jewish-women/2024-09-24/
LOCATION:Zoom\, TX\, United States
CATEGORIES:Support Group,Women's Caner Event
ATTACH;FMTTYPE=image/png:https://jfamilyservice.org/wp-content/uploads/2024/07/Guided-Fertility-Support-Workshop-social-2.png
END:VEVENT
BEGIN:VEVENT
DTSTART;TZID=America/Chicago:20240925T173000
DTEND;TZID=America/Chicago:20240925T190000
DTSTAMP:20260422T224530
CREATED:20190523T171311Z
LAST-MODIFIED:20190523T171311Z
UID:27161-1727285400-1727290800@jfamilyservice.org
SUMMARY:Men's Group
DESCRIPTION:This process-oriented therapy group covers a wide assortment of issues affecting men including interpersonal relationships\, family conflict & violence\, parenting\, dealing with unpleasant feelings\, coping with anger\, abusive experiences\, and living an honorable life. \nThis group provides an opportunity for men to gain insight\, self-awareness\, and behavioral skill and practice. \nThe group meets weekly – Wednesdays\, 5:30 p.m. to 7 p.m. Pre-registration is required.  \nFor more information\, please contact Mike Ligocki\, PhD at Jewish Family Service 972.437.9950 (ext. 307).
URL:https://jfamilyservice.org/event/mens-group/2024-09-25/
LOCATION:JFS (5402 Arapaho Road\, Dallas 75248)\, 5402 Arapaho Road\, Dallas\, TX\, 75248\, United States
CATEGORIES:Jewish Family Service Event
ORGANIZER;CN="Mike Ligocki":MAILTO:mligocki@jfamilyservice.org
GEO:32.9589497;-96.8191731
X-APPLE-STRUCTURED-LOCATION;VALUE=URI;X-ADDRESS=JFS (5402 Arapaho Road Dallas 75248) 5402 Arapaho Road Dallas TX 75248 United States;X-APPLE-RADIUS=500;X-TITLE=5402 Arapaho Road:geo:-96.8191731,32.9589497
END:VEVENT
BEGIN:VEVENT
DTSTART;TZID=America/Chicago:20240926T173000
DTEND;TZID=America/Chicago:20240926T183000
DTSTAMP:20260422T224530
CREATED:20240822T144316Z
LAST-MODIFIED:20240822T144954Z
UID:29635-1727371800-1727375400@jfamilyservice.org
SUMMARY:Groundbreaking Ceremony
DESCRIPTION:RSVP HERE\nJoin us to celebrate the purchase and kick-off renovations at the new Karla and Larry Steinberg Jewish Family Service of Greater Dallas building! \nThe entire community is invited to celebrate in this historic moment for the agency. \n*This event will be in a covered tent outdoors and restrooms will be available.
URL:https://jfamilyservice.org/event/groundbreaking-ceremony/
LOCATION:JFS Karla and Larry Steinberg Building\, 16301 Quorum Dr\, Addison\, 75001\, United States
ATTACH;FMTTYPE=image/jpeg:https://jfamilyservice.org/wp-content/uploads/2024/08/Groundbreaking-Banner-Online.jpg
END:VEVENT
END:VCALENDAR