BEGIN:VCALENDAR
VERSION:2.0
PRODID:-//J Family Service - ECPv6.15.20//NONSGML v1.0//EN
CALSCALE:GREGORIAN
METHOD:PUBLISH
X-WR-CALNAME:J Family Service
X-ORIGINAL-URL:https://jfamilyservice.org
X-WR-CALDESC:Events for J Family Service
REFRESH-INTERVAL;VALUE=DURATION:PT1H
X-Robots-Tag:noindex
X-PUBLISHED-TTL:PT1H
BEGIN:VTIMEZONE
TZID:America/Chicago
BEGIN:DAYLIGHT
TZOFFSETFROM:-0600
TZOFFSETTO:-0500
TZNAME:CDT
DTSTART:20260308T080000
END:DAYLIGHT
BEGIN:STANDARD
TZOFFSETFROM:-0500
TZOFFSETTO:-0600
TZNAME:CST
DTSTART:20261101T070000
END:STANDARD
BEGIN:DAYLIGHT
TZOFFSETFROM:-0600
TZOFFSETTO:-0500
TZNAME:CDT
DTSTART:20270314T080000
END:DAYLIGHT
BEGIN:STANDARD
TZOFFSETFROM:-0500
TZOFFSETTO:-0600
TZNAME:CST
DTSTART:20271107T070000
END:STANDARD
BEGIN:DAYLIGHT
TZOFFSETFROM:-0600
TZOFFSETTO:-0500
TZNAME:CDT
DTSTART:20280312T080000
END:DAYLIGHT
BEGIN:STANDARD
TZOFFSETFROM:-0500
TZOFFSETTO:-0600
TZNAME:CST
DTSTART:20281105T070000
END:STANDARD
END:VTIMEZONE
BEGIN:VEVENT
DTSTART;TZID=America/Chicago:20270412T183000
DTEND;TZID=America/Chicago:20270412T200000
DTSTAMP:20260419T105513
CREATED:20220914T125557Z
LAST-MODIFIED:20220914T125557Z
UID:32317-1807554600-1807560000@jfamilyservice.org
SUMMARY:Dialectical Behavior Therapy (DBT) Group Class
DESCRIPTION:Dialectical Behavior Therapy (DBT) is an Evidence-Based Treatment shown to be effective with: \n• Controlling life-threatening and quality-of-life interfering behaviors \n• Regulating intense\, painful emotions \n• Managing difficult interpersonal relationships \n• Fostering more life balance \n• Creating a life worth living \n  \nSkills you will develop with this six-week course: Mindfulness\, Interpersonal Effectiveness\, Emotion Regulation\, Distress Tolerance\, and Middle Path \n  \nCandidate Requirements: \n• Adult Men and Women \n• Must be pre-screened prior to the start date of classes \n• Also be in Concurrent Individual Therapy \n  \nSkills are taught in modules lasting six weeks and are open to new candidates at the start of a new module. \nFor more information and to get in the next group class\, Contact Nancy Hall\, MA\, LPC at nhall@jfamilyservice.org or 214.887.1364 x272. \n  \nMonday Evenings from 6:30PM-8:00PM \n 
URL:https://jfamilyservice.org/event/dialectical-behavior-therapy-dbt-group-class/2027-04-12/
LOCATION:Other\, United States
CATEGORIES:Support Group
ORGANIZER;CN="Nancy Hall":MAILTO:nhall@jfamilyservice.org
GEO:37.09024;-95.712891
END:VEVENT
BEGIN:VEVENT
DTSTART;TZID=America/Chicago:20270413T141500
DTEND;TZID=America/Chicago:20270413T151500
DTSTAMP:20260419T105513
CREATED:20220314T161328Z
LAST-MODIFIED:20220314T161328Z
UID:32319-1807625700-1807629300@jfamilyservice.org
SUMMARY:Modified Yoga for Cancer Survivors or Individuals with Disabilities
DESCRIPTION:Two times a week at the Jewish Community Center \nContact Beth Broodo at bbroodo@jfamilyservice.org to confirm attendance.
URL:https://jfamilyservice.org/event/modified-yoga-for-cancer-survivors-or-individuals-with-disabilities/2027-04-13/
LOCATION:JCC\, 7900 Northaven Road\, Dallas\, United States
CATEGORIES:Community Event
ORGANIZER;CN="Beth Broodo":MAILTO:bbroodo@jfamilyservice.org
GEO:32.8999972;-96.7734315
X-APPLE-STRUCTURED-LOCATION;VALUE=URI;X-ADDRESS=JCC 7900 Northaven Road Dallas United States;X-APPLE-RADIUS=500;X-TITLE=7900 Northaven Road:geo:-96.7734315,32.8999972
END:VEVENT
BEGIN:VEVENT
DTSTART;TZID=America/Chicago:20270414T173000
DTEND;TZID=America/Chicago:20270414T190000
DTSTAMP:20260419T105513
CREATED:20190523T171311Z
LAST-MODIFIED:20190523T171311Z
UID:32322-1807723800-1807729200@jfamilyservice.org
SUMMARY:Men's Group
DESCRIPTION:This process-oriented therapy group covers a wide assortment of issues affecting men including interpersonal relationships\, family conflict & violence\, parenting\, dealing with unpleasant feelings\, coping with anger\, abusive experiences\, and living an honorable life. \nThis group provides an opportunity for men to gain insight\, self-awareness\, and behavioral skill and practice. \nThe group meets weekly – Wednesdays\, 5:30 p.m. to 7 p.m. Pre-registration is required.  \nFor more information\, please contact Mike Ligocki\, PhD at Jewish Family Service 972.437.9950 (ext. 307).
URL:https://jfamilyservice.org/event/mens-group/2027-04-14/
LOCATION:JFS (5402 Arapaho Road\, Dallas 75248)\, 5402 Arapaho Road\, Dallas\, TX\, 75248\, United States
CATEGORIES:Jewish Family Service Event
ORGANIZER;CN="Mike Ligocki":MAILTO:mligocki@jfamilyservice.org
GEO:32.9589497;-96.8191731
X-APPLE-STRUCTURED-LOCATION;VALUE=URI;X-ADDRESS=JFS (5402 Arapaho Road Dallas 75248) 5402 Arapaho Road Dallas TX 75248 United States;X-APPLE-RADIUS=500;X-TITLE=5402 Arapaho Road:geo:-96.8191731,32.9589497
END:VEVENT
BEGIN:VEVENT
DTSTART;TZID=America/Chicago:20270414T200000
DTEND;TZID=America/Chicago:20270414T210000
DTSTAMP:20260419T105513
CREATED:20211020T145710Z
LAST-MODIFIED:20211020T145710Z
UID:32321-1807732800-1807736400@jfamilyservice.org
SUMMARY:Breast Cancer Support Group
DESCRIPTION:Integrating different therapeutic modalities to reduce stress and anxiety as well as increase overall well-being. Open to any woman who has experienced breast cancer\, this group is an opportunity to discuss ways to cope and to find ways to live each day as fully as possible. \n  \nContact Beth Broodo at bbroodo@jfamilyservice.org to get the registration link or more information.
URL:https://jfamilyservice.org/event/breast-cancer-support-group-3/2027-04-14/
LOCATION:Other\, United States
CATEGORIES:Support Group
ORGANIZER;CN="Beth Broodo":MAILTO:bbroodo@jfamilyservice.org
GEO:37.09024;-95.712891
END:VEVENT
END:VCALENDAR