BEGIN:VCALENDAR
VERSION:2.0
PRODID:-//J Family Service - ECPv6.15.20//NONSGML v1.0//EN
CALSCALE:GREGORIAN
METHOD:PUBLISH
X-WR-CALNAME:J Family Service
X-ORIGINAL-URL:https://jfamilyservice.org
X-WR-CALDESC:Events for J Family Service
REFRESH-INTERVAL;VALUE=DURATION:PT1H
X-Robots-Tag:noindex
X-PUBLISHED-TTL:PT1H
BEGIN:VTIMEZONE
TZID:America/Chicago
BEGIN:DAYLIGHT
TZOFFSETFROM:-0600
TZOFFSETTO:-0500
TZNAME:CDT
DTSTART:20250309T080000
END:DAYLIGHT
BEGIN:STANDARD
TZOFFSETFROM:-0500
TZOFFSETTO:-0600
TZNAME:CST
DTSTART:20251102T070000
END:STANDARD
BEGIN:DAYLIGHT
TZOFFSETFROM:-0600
TZOFFSETTO:-0500
TZNAME:CDT
DTSTART:20260308T080000
END:DAYLIGHT
BEGIN:STANDARD
TZOFFSETFROM:-0500
TZOFFSETTO:-0600
TZNAME:CST
DTSTART:20261101T070000
END:STANDARD
BEGIN:DAYLIGHT
TZOFFSETFROM:-0600
TZOFFSETTO:-0500
TZNAME:CDT
DTSTART:20270314T080000
END:DAYLIGHT
BEGIN:STANDARD
TZOFFSETFROM:-0500
TZOFFSETTO:-0600
TZNAME:CST
DTSTART:20271107T070000
END:STANDARD
END:VTIMEZONE
BEGIN:VEVENT
DTSTART;TZID=America/Chicago:20260211T130000
DTEND;TZID=America/Chicago:20260211T140000
DTSTAMP:20260419T112057
CREATED:20251211T122117Z
LAST-MODIFIED:20260105T154820Z
UID:32043-1770814800-1770818400@jfamilyservice.org
SUMMARY:Digital Learning - The Legacy Midtown Park
DESCRIPTION:Residents of the Legacy Midtown Park Senior Community are invited to join this monthly\, one-hour workshop designed to provide friendly\, step-by-step support with everyday technology questions. Whether you’re learning something new or need a quick refresher\, we’ll work through it together at your pace. Please bring your own laptop\, mobile phone\, or iPad. \nThis series is offered at no cost exclusively to Legacy residents\, and you’re welcome to attend as many—or as few—sessions as you’d like. \nUpcoming Sessions (Second Wednesday of Each Month): \nWednesday\, February 11 (1-2pm)\nWednesday\, March 11 (1-2pm)\nWednesday\, April 8 (1-2pm)\nWednesday\, May 13 (1-2pm)\nWednesday\, June 10 (1-2pm)\nWednesday\, July 8 (1-2pm)\nWednesday\, August 12 (1-2pm)\nWednesday\, September 9 (1-2pm)\nWednesday\, October 14 (1-2pm)\nWednesday\, November 11 (1-2pm)\nWednesday\, December 9 (1-2pm) \nIf you are not a resident of The Legacy but would like to receive technology training\, please visit our website or contact the JFS Career & Financial Services Department by calling 972-437-9950 x 379 to learn about upcoming events\, seminars\, and technology workshops available to the community.
URL:https://jfamilyservice.org/event/digital-learning-the-legacy-midtown-park/2026-02-11/
LOCATION:The Legacy Midtown Park\, 8240 Manderville Lane\, Dallas\, TX\, 75231
CATEGORIES:Networking & Training,Older Adults
ATTACH;FMTTYPE=image/webp:https://jfamilyservice.org/wp-content/uploads/2025/12/iphone-user.webp
END:VEVENT
BEGIN:VEVENT
DTSTART;TZID=America/Chicago:20260211T173000
DTEND;TZID=America/Chicago:20260211T190000
DTSTAMP:20260419T112057
CREATED:20190523T171311Z
LAST-MODIFIED:20190523T171311Z
UID:30777-1770831000-1770836400@jfamilyservice.org
SUMMARY:Men's Group
DESCRIPTION:This process-oriented therapy group covers a wide assortment of issues affecting men including interpersonal relationships\, family conflict & violence\, parenting\, dealing with unpleasant feelings\, coping with anger\, abusive experiences\, and living an honorable life. \nThis group provides an opportunity for men to gain insight\, self-awareness\, and behavioral skill and practice. \nThe group meets weekly – Wednesdays\, 5:30 p.m. to 7 p.m. Pre-registration is required.  \nFor more information\, please contact Mike Ligocki\, PhD at Jewish Family Service 972.437.9950 (ext. 307).
URL:https://jfamilyservice.org/event/mens-group/2026-02-11/
LOCATION:JFS (5402 Arapaho Road\, Dallas 75248)\, 5402 Arapaho Road\, Dallas\, TX\, 75248\, United States
CATEGORIES:Jewish Family Service Event
ORGANIZER;CN="Mike Ligocki":MAILTO:mligocki@jfamilyservice.org
GEO:32.9589497;-96.8191731
X-APPLE-STRUCTURED-LOCATION;VALUE=URI;X-ADDRESS=JFS (5402 Arapaho Road Dallas 75248) 5402 Arapaho Road Dallas TX 75248 United States;X-APPLE-RADIUS=500;X-TITLE=5402 Arapaho Road:geo:-96.8191731,32.9589497
END:VEVENT
BEGIN:VEVENT
DTSTART;TZID=America/Chicago:20260211T200000
DTEND;TZID=America/Chicago:20260211T210000
DTSTAMP:20260419T112057
CREATED:20211020T145710Z
LAST-MODIFIED:20211020T145710Z
UID:30776-1770840000-1770843600@jfamilyservice.org
SUMMARY:Breast Cancer Support Group
DESCRIPTION:Integrating different therapeutic modalities to reduce stress and anxiety as well as increase overall well-being. Open to any woman who has experienced breast cancer\, this group is an opportunity to discuss ways to cope and to find ways to live each day as fully as possible. \n  \nContact Beth Broodo at bbroodo@jfamilyservice.org to get the registration link or more information.
URL:https://jfamilyservice.org/event/breast-cancer-support-group-3/2026-02-11/
LOCATION:Other\, United States
CATEGORIES:Support Group
ORGANIZER;CN="Beth Broodo":MAILTO:bbroodo@jfamilyservice.org
GEO:37.09024;-95.712891
END:VEVENT
END:VCALENDAR