BEGIN:VCALENDAR
VERSION:2.0
PRODID:-//J Family Service - ECPv6.15.20//NONSGML v1.0//EN
CALSCALE:GREGORIAN
METHOD:PUBLISH
X-ORIGINAL-URL:https://jfamilyservice.org
X-WR-CALDESC:Events for J Family Service
REFRESH-INTERVAL;VALUE=DURATION:PT1H
X-Robots-Tag:noindex
X-PUBLISHED-TTL:PT1H
BEGIN:VTIMEZONE
TZID:America/Chicago
BEGIN:DAYLIGHT
TZOFFSETFROM:-0600
TZOFFSETTO:-0500
TZNAME:CDT
DTSTART:20250309T080000
END:DAYLIGHT
BEGIN:STANDARD
TZOFFSETFROM:-0500
TZOFFSETTO:-0600
TZNAME:CST
DTSTART:20251102T070000
END:STANDARD
BEGIN:DAYLIGHT
TZOFFSETFROM:-0600
TZOFFSETTO:-0500
TZNAME:CDT
DTSTART:20260308T080000
END:DAYLIGHT
BEGIN:STANDARD
TZOFFSETFROM:-0500
TZOFFSETTO:-0600
TZNAME:CST
DTSTART:20261101T070000
END:STANDARD
BEGIN:DAYLIGHT
TZOFFSETFROM:-0600
TZOFFSETTO:-0500
TZNAME:CDT
DTSTART:20270314T080000
END:DAYLIGHT
BEGIN:STANDARD
TZOFFSETFROM:-0500
TZOFFSETTO:-0600
TZNAME:CST
DTSTART:20271107T070000
END:STANDARD
END:VTIMEZONE
BEGIN:VEVENT
DTSTART;TZID=America/Chicago:20260210T120000
DTEND;TZID=America/Chicago:20260210T130000
DTSTAMP:20260419T112314
CREATED:20220308T193704Z
LAST-MODIFIED:20220308T193704Z
UID:30894-1770724800-1770728400@jfamilyservice.org
SUMMARY:Caring for the Caregivers - Support Group
DESCRIPTION:1st Tuesday of the month at 10:30am \n2nd Tuesday of the month at 12:00pm \n  \nFor all family caregivers\, this group\, facilitated by an elder-care professional\, will help you learn how to best care for your loved one—and yourself. \nContact: \nAbigail Goodman\, LCSW at agoodman@jfamilyservice.org \nLicensed Clinical Social Worker\, Older Adults at Jewish Family Service of Greater Dallas \nP: 469.206.1688  I  972.437.9950 x215  I  F: 972.437.1988
URL:https://jfamilyservice.org/event/caring-for-the-caregivers-support-group/2026-02-10/
LOCATION:Other\, United States
CATEGORIES:Support Group
ORGANIZER;CN="Abby Goodman":MAILTO:agoodman@JFSdallas.org
GEO:37.09024;-95.712891
END:VEVENT
BEGIN:VEVENT
DTSTART;TZID=America/Chicago:20260210T130000
DTEND;TZID=America/Chicago:20260210T133000
DTSTAMP:20260419T112314
CREATED:20251030T160755Z
LAST-MODIFIED:20251030T160755Z
UID:32014-1770728400-1770730200@jfamilyservice.org
SUMMARY:Virtual Interview Practice Program
DESCRIPTION:If you’re job searching\, we always recommend practicing for your interview!  \nSign up for this one-on-one personalized Virtual Interview Practice Program\, where you can run through interview questions tailored to your exact field. To make an appointment\, please email JFS Career Coach\, Jason Hopper\, at jhopper@jfamilyservice.org and let him know you’d like to book your virtual practice interview.  \nSpots are typically available on Tuesdays at 1pm and 2pm.
URL:https://jfamilyservice.org/event/virtual-interview-practice-program/2026-02-10/
LOCATION:Online via Microsoft Teams
CATEGORIES:Networking & Training
ATTACH;FMTTYPE=image/png:https://jfamilyservice.org/wp-content/uploads/2025/10/October-16-1.png
END:VEVENT
BEGIN:VEVENT
DTSTART;TZID=America/Chicago:20260210T141500
DTEND;TZID=America/Chicago:20260210T151500
DTSTAMP:20260419T112314
CREATED:20220314T161328Z
LAST-MODIFIED:20220314T161328Z
UID:30763-1770732900-1770736500@jfamilyservice.org
SUMMARY:Modified Yoga for Cancer Survivors or Individuals with Disabilities
DESCRIPTION:Two times a week at the Jewish Community Center \nContact Beth Broodo at bbroodo@jfamilyservice.org to confirm attendance.
URL:https://jfamilyservice.org/event/modified-yoga-for-cancer-survivors-or-individuals-with-disabilities/2026-02-10/
LOCATION:JCC\, 7900 Northaven Road\, Dallas\, United States
CATEGORIES:Community Event
ORGANIZER;CN="Beth Broodo":MAILTO:bbroodo@jfamilyservice.org
GEO:32.8999972;-96.7734315
X-APPLE-STRUCTURED-LOCATION;VALUE=URI;X-ADDRESS=JCC 7900 Northaven Road Dallas United States;X-APPLE-RADIUS=500;X-TITLE=7900 Northaven Road:geo:-96.7734315,32.8999972
END:VEVENT
END:VCALENDAR