BEGIN:VCALENDAR
VERSION:2.0
PRODID:-//J Family Service - ECPv6.15.20//NONSGML v1.0//EN
CALSCALE:GREGORIAN
METHOD:PUBLISH
X-ORIGINAL-URL:https://jfamilyservice.org
X-WR-CALDESC:Events for J Family Service
REFRESH-INTERVAL;VALUE=DURATION:PT1H
X-Robots-Tag:noindex
X-PUBLISHED-TTL:PT1H
BEGIN:VTIMEZONE
TZID:America/Chicago
BEGIN:DAYLIGHT
TZOFFSETFROM:-0600
TZOFFSETTO:-0500
TZNAME:CDT
DTSTART:20240310T080000
END:DAYLIGHT
BEGIN:STANDARD
TZOFFSETFROM:-0500
TZOFFSETTO:-0600
TZNAME:CST
DTSTART:20241103T070000
END:STANDARD
BEGIN:DAYLIGHT
TZOFFSETFROM:-0600
TZOFFSETTO:-0500
TZNAME:CDT
DTSTART:20250309T080000
END:DAYLIGHT
BEGIN:STANDARD
TZOFFSETFROM:-0500
TZOFFSETTO:-0600
TZNAME:CST
DTSTART:20251102T070000
END:STANDARD
BEGIN:DAYLIGHT
TZOFFSETFROM:-0600
TZOFFSETTO:-0500
TZNAME:CDT
DTSTART:20260308T080000
END:DAYLIGHT
BEGIN:STANDARD
TZOFFSETFROM:-0500
TZOFFSETTO:-0600
TZNAME:CST
DTSTART:20261101T070000
END:STANDARD
END:VTIMEZONE
BEGIN:VEVENT
DTSTART;TZID=America/Chicago:20251218T130000
DTEND;TZID=America/Chicago:20251218T140000
DTSTAMP:20260419T150005
CREATED:20251122T011529Z
LAST-MODIFIED:20251122T011529Z
UID:31966-1766062800-1766066400@jfamilyservice.org
SUMMARY:The Future of Mobile Banking & Digital Wallets - Building Financial Power Webinar
DESCRIPTION:The digital world is transforming the way we manage our money. From contactless payments to AI-powered banking tools\, new technologies are reshaping everyday financial decisions. But what does all of this mean for you? \nJoin financial professionals from Benchmark Bank for a look at what they predict will be the future of mobile banking and digital wallets. Learn what trends are coming\, how these tools can keep your finances safer\, and what features you should be using right now to save time\, stay organized\, and make smarter money moves. \nWhether you’re curious about digital payment options\, thinking about upgrading how you bank\, or just want to stay informed\, this session will give you practical insights you can use immediately. Free to attend. \n 
URL:https://jfamilyservice.org/event/the-future-of-mobile-banking-digital-wallets-building-financial-power-webinar/
LOCATION:Online via Microsoft Teams
CATEGORIES:Networking & Training
ATTACH;FMTTYPE=image/png:https://jfamilyservice.org/wp-content/uploads/2025/11/Aug-21-3.png
END:VEVENT
BEGIN:VEVENT
DTSTART;TZID=America/Chicago:20251218T141500
DTEND;TZID=America/Chicago:20251218T151500
DTSTAMP:20260419T150005
CREATED:20220314T161328Z
LAST-MODIFIED:20220314T161328Z
UID:30536-1766067300-1766070900@jfamilyservice.org
SUMMARY:Modified Yoga for Cancer Survivors or Individuals with Disabilities
DESCRIPTION:Two times a week at the Jewish Community Center \nContact Beth Broodo at bbroodo@jfamilyservice.org to confirm attendance.
URL:https://jfamilyservice.org/event/modified-yoga-for-cancer-survivors-or-individuals-with-disabilities/2025-12-18/
LOCATION:JCC\, 7900 Northaven Road\, Dallas\, United States
CATEGORIES:Community Event
ORGANIZER;CN="Beth Broodo":MAILTO:bbroodo@jfamilyservice.org
GEO:32.8999972;-96.7734315
X-APPLE-STRUCTURED-LOCATION;VALUE=URI;X-ADDRESS=JCC 7900 Northaven Road Dallas United States;X-APPLE-RADIUS=500;X-TITLE=7900 Northaven Road:geo:-96.7734315,32.8999972
END:VEVENT
END:VCALENDAR