BEGIN:VCALENDAR
VERSION:2.0
PRODID:-//J Family Service - ECPv6.15.20//NONSGML v1.0//EN
CALSCALE:GREGORIAN
METHOD:PUBLISH
X-WR-CALNAME:J Family Service
X-ORIGINAL-URL:https://jfamilyservice.org
X-WR-CALDESC:Events for J Family Service
REFRESH-INTERVAL;VALUE=DURATION:PT1H
X-Robots-Tag:noindex
X-PUBLISHED-TTL:PT1H
BEGIN:VTIMEZONE
TZID:America/Chicago
BEGIN:DAYLIGHT
TZOFFSETFROM:-0600
TZOFFSETTO:-0500
TZNAME:CDT
DTSTART:20240310T080000
END:DAYLIGHT
BEGIN:STANDARD
TZOFFSETFROM:-0500
TZOFFSETTO:-0600
TZNAME:CST
DTSTART:20241103T070000
END:STANDARD
BEGIN:DAYLIGHT
TZOFFSETFROM:-0600
TZOFFSETTO:-0500
TZNAME:CDT
DTSTART:20250309T080000
END:DAYLIGHT
BEGIN:STANDARD
TZOFFSETFROM:-0500
TZOFFSETTO:-0600
TZNAME:CST
DTSTART:20251102T070000
END:STANDARD
BEGIN:DAYLIGHT
TZOFFSETFROM:-0600
TZOFFSETTO:-0500
TZNAME:CDT
DTSTART:20260308T080000
END:DAYLIGHT
BEGIN:STANDARD
TZOFFSETFROM:-0500
TZOFFSETTO:-0600
TZNAME:CST
DTSTART:20261101T070000
END:STANDARD
END:VTIMEZONE
BEGIN:VEVENT
DTSTART;TZID=America/Chicago:20251120T130000
DTEND;TZID=America/Chicago:20251120T140000
DTSTAMP:20260419T222112
CREATED:20251022T145538Z
LAST-MODIFIED:20251030T154914Z
UID:31768-1763643600-1763647200@jfamilyservice.org
SUMMARY:Planning for Homeownership: Building Financial Power Webinar
DESCRIPTION:Ready to buy a home but not sure where to start? Join this free webinar to learn how much you’ll need for a down payment\, what to expect from application to closing\, and how to navigate the mortgage process with confidence. Banking experts from Wells Fargo Bank will walk you through the basics and answer your questions live. \nThis webinar is offered to you as part of the Building Financial Power Series:\nThe Career and Financial Coaching department at JFS Dallas has partnered with local banks to bring you the Building Financial Power Series– a series of webinars designed to give you the tools you need to take control of your finances. Learn how to minimize debt\, build the credit you need for major purchases like a car or a home\, start investing\, and more. These sessions are designed for everyday people who want to tell their money where to go instead of always wondering where it went!
URL:https://jfamilyservice.org/event/planning-for-homeownership-building-financial-power-webinar/
LOCATION:Online via Microsoft Teams
CATEGORIES:Jewish Family Service Event,Networking & Training
ATTACH;FMTTYPE=image/png:https://jfamilyservice.org/wp-content/uploads/2025/10/sept-18-2.png
END:VEVENT
BEGIN:VEVENT
DTSTART;TZID=America/Chicago:20251120T141500
DTEND;TZID=America/Chicago:20251120T151500
DTSTAMP:20260419T222112
CREATED:20220314T161328Z
LAST-MODIFIED:20220314T161328Z
UID:30399-1763648100-1763651700@jfamilyservice.org
SUMMARY:Modified Yoga for Cancer Survivors or Individuals with Disabilities
DESCRIPTION:Two times a week at the Jewish Community Center \nContact Beth Broodo at bbroodo@jfamilyservice.org to confirm attendance.
URL:https://jfamilyservice.org/event/modified-yoga-for-cancer-survivors-or-individuals-with-disabilities/2025-11-20/
LOCATION:JCC\, 7900 Northaven Road\, Dallas\, United States
CATEGORIES:Community Event
ORGANIZER;CN="Beth Broodo":MAILTO:bbroodo@jfamilyservice.org
GEO:32.8999972;-96.7734315
X-APPLE-STRUCTURED-LOCATION;VALUE=URI;X-ADDRESS=JCC 7900 Northaven Road Dallas United States;X-APPLE-RADIUS=500;X-TITLE=7900 Northaven Road:geo:-96.7734315,32.8999972
END:VEVENT
END:VCALENDAR