BEGIN:VCALENDAR
VERSION:2.0
PRODID:-//J Family Service - ECPv6.15.20//NONSGML v1.0//EN
CALSCALE:GREGORIAN
METHOD:PUBLISH
X-WR-CALNAME:J Family Service
X-ORIGINAL-URL:https://jfamilyservice.org
X-WR-CALDESC:Events for J Family Service
REFRESH-INTERVAL;VALUE=DURATION:PT1H
X-Robots-Tag:noindex
X-PUBLISHED-TTL:PT1H
BEGIN:VTIMEZONE
TZID:America/Chicago
BEGIN:DAYLIGHT
TZOFFSETFROM:-0600
TZOFFSETTO:-0500
TZNAME:CDT
DTSTART:20240310T080000
END:DAYLIGHT
BEGIN:STANDARD
TZOFFSETFROM:-0500
TZOFFSETTO:-0600
TZNAME:CST
DTSTART:20241103T070000
END:STANDARD
BEGIN:DAYLIGHT
TZOFFSETFROM:-0600
TZOFFSETTO:-0500
TZNAME:CDT
DTSTART:20250309T080000
END:DAYLIGHT
BEGIN:STANDARD
TZOFFSETFROM:-0500
TZOFFSETTO:-0600
TZNAME:CST
DTSTART:20251102T070000
END:STANDARD
BEGIN:DAYLIGHT
TZOFFSETFROM:-0600
TZOFFSETTO:-0500
TZNAME:CDT
DTSTART:20260308T080000
END:DAYLIGHT
BEGIN:STANDARD
TZOFFSETFROM:-0500
TZOFFSETTO:-0600
TZNAME:CST
DTSTART:20261101T070000
END:STANDARD
END:VTIMEZONE
BEGIN:VEVENT
DTSTART;TZID=America/Chicago:20251119T100000
DTEND;TZID=America/Chicago:20251119T120000
DTSTAMP:20260419T222107
CREATED:20251106T220740Z
LAST-MODIFIED:20251106T220740Z
UID:31869-1763546400-1763553600@jfamilyservice.org
SUMMARY:One-on-One Coaching for Those Affected by the Government Shutdown
DESCRIPTION:The current government shutdown is impacting federal employees\, medical benefits\, and food assistance programs like SNAP (Supplemental Nutrition Assistance Program) and WIC (Special Supplemental Nutrition Program for Women\, Infants\, and Children)\, leaving more families vulnerable. \nIn response\, our team of Career and Financial Coaches are offering one-on-one coaching sessions on Wednesday\, November 19 between 10:00am – 12:00pm. Individuals can sign up for a 30-minute career or financial coaching session\, either in-person or virtual. Coaches can review your resume or offer personalized financial guidance to help you navigate this uncertain time. \nSign up is required\, please email:  allcareer@jfamilyservice.org 
URL:https://jfamilyservice.org/event/one-on-one-coaching-for-those-affected-by-the-government-shutdown/
LOCATION:JFS (5402 Arapaho Road\, Dallas 75248)\, 5402 Arapaho Road\, Dallas\, TX\, 75248\, United States
CATEGORIES:Jewish Family Service Event,Networking & Training
GEO:32.9589497;-96.8191731
X-APPLE-STRUCTURED-LOCATION;VALUE=URI;X-ADDRESS=JFS (5402 Arapaho Road Dallas 75248) 5402 Arapaho Road Dallas TX 75248 United States;X-APPLE-RADIUS=500;X-TITLE=5402 Arapaho Road:geo:-96.8191731,32.9589497
END:VEVENT
BEGIN:VEVENT
DTSTART;TZID=America/Chicago:20251119T173000
DTEND;TZID=America/Chicago:20251119T190000
DTSTAMP:20260419T222107
CREATED:20190523T171311Z
LAST-MODIFIED:20190523T171311Z
UID:30361-1763573400-1763578800@jfamilyservice.org
SUMMARY:Men's Group
DESCRIPTION:This process-oriented therapy group covers a wide assortment of issues affecting men including interpersonal relationships\, family conflict & violence\, parenting\, dealing with unpleasant feelings\, coping with anger\, abusive experiences\, and living an honorable life. \nThis group provides an opportunity for men to gain insight\, self-awareness\, and behavioral skill and practice. \nThe group meets weekly – Wednesdays\, 5:30 p.m. to 7 p.m. Pre-registration is required.  \nFor more information\, please contact Mike Ligocki\, PhD at Jewish Family Service 972.437.9950 (ext. 307).
URL:https://jfamilyservice.org/event/mens-group/2025-11-19/
LOCATION:JFS (5402 Arapaho Road\, Dallas 75248)\, 5402 Arapaho Road\, Dallas\, TX\, 75248\, United States
CATEGORIES:Jewish Family Service Event
ORGANIZER;CN="Mike Ligocki":MAILTO:mligocki@jfamilyservice.org
GEO:32.9589497;-96.8191731
X-APPLE-STRUCTURED-LOCATION;VALUE=URI;X-ADDRESS=JFS (5402 Arapaho Road Dallas 75248) 5402 Arapaho Road Dallas TX 75248 United States;X-APPLE-RADIUS=500;X-TITLE=5402 Arapaho Road:geo:-96.8191731,32.9589497
END:VEVENT
BEGIN:VEVENT
DTSTART;TZID=America/Chicago:20251119T184500
DTEND;TZID=America/Chicago:20251119T200000
DTSTAMP:20260419T222107
CREATED:20190523T164859Z
LAST-MODIFIED:20190523T164859Z
UID:30360-1763577900-1763582400@jfamilyservice.org
SUMMARY:Caregiver Support Group
DESCRIPTION:For spouses\, adult children\, and other family members coping with a loved one suffering from Alzheimer’s or other conditions requiring long-term care. This group meets the third Wednesday of every month at 6:45 pm. For more information contact Harriet L. Cohen\, PhD\, LCSW at hcohen@jfamilyservice.org or 469-206-1671 \nOpen to anyone in need\, our Caregivers Support Groups are for spouses\, adult children and other family members coping with a loved one suffering from dementia or other long-term illnesses. \nFacilitated by our licensed professionals\, these groups provide information and support to help you best care for your loved one\, while caring for yourself.
URL:https://jfamilyservice.org/event/5458/2025-11-19/
LOCATION:JFS Older Adult Offices\, 16910 Dallas Parkway\, Dallas\, TX\, 75248\, United States
CATEGORIES:Jewish Family Service Event
ORGANIZER;CN="Harriet Cohen":MAILTO:hcohen@jfamilyservice.org
END:VEVENT
END:VCALENDAR