BEGIN:VCALENDAR
VERSION:2.0
PRODID:-//J Family Service - ECPv6.15.20//NONSGML v1.0//EN
CALSCALE:GREGORIAN
METHOD:PUBLISH
X-WR-CALNAME:J Family Service
X-ORIGINAL-URL:https://jfamilyservice.org
X-WR-CALDESC:Events for J Family Service
REFRESH-INTERVAL;VALUE=DURATION:PT1H
X-Robots-Tag:noindex
X-PUBLISHED-TTL:PT1H
BEGIN:VTIMEZONE
TZID:America/Chicago
BEGIN:DAYLIGHT
TZOFFSETFROM:-0600
TZOFFSETTO:-0500
TZNAME:CDT
DTSTART:20240310T080000
END:DAYLIGHT
BEGIN:STANDARD
TZOFFSETFROM:-0500
TZOFFSETTO:-0600
TZNAME:CST
DTSTART:20241103T070000
END:STANDARD
BEGIN:DAYLIGHT
TZOFFSETFROM:-0600
TZOFFSETTO:-0500
TZNAME:CDT
DTSTART:20250309T080000
END:DAYLIGHT
BEGIN:STANDARD
TZOFFSETFROM:-0500
TZOFFSETTO:-0600
TZNAME:CST
DTSTART:20251102T070000
END:STANDARD
BEGIN:DAYLIGHT
TZOFFSETFROM:-0600
TZOFFSETTO:-0500
TZNAME:CDT
DTSTART:20260308T080000
END:DAYLIGHT
BEGIN:STANDARD
TZOFFSETFROM:-0500
TZOFFSETTO:-0600
TZNAME:CST
DTSTART:20261101T070000
END:STANDARD
END:VTIMEZONE
BEGIN:VEVENT
DTSTART;TZID=America/Chicago:20250827T100000
DTEND;TZID=America/Chicago:20250827T120000
DTSTAMP:20260420T105001
CREATED:20250821T174858Z
LAST-MODIFIED:20250821T174858Z
UID:31577-1756288800-1756296000@jfamilyservice.org
SUMMARY:3-Day Microsoft Excel Course
DESCRIPTION:This 3-day course is offered at no cost through the Career and Financial Coaching Department of JFS Dallas. It is taught by Chris Sachnik and will be held on Microsoft Teams. After you register through Eventbrite\, you will receive an email with the link to join. \nDay 1: Meet Excel (and Don’t Be Scared) \n\nTour of the interface: ribbons\, cells\, and sheets\nEntering and formatting text\, numbers\, and dates\nBasic formulas: SUM\, AVERAGE\, simple math\nAutoFill\, copy/paste tricks\, and cell formatting\nCreating a personal checklist or budget\n\n  \nTuesday\, August 26 \nDay 2: Making It Work for You \n\nSorting and filtering data\nFreezing panes and hiding rows/columns\nCell references: absolute vs. relative\nWorking with tables and totals\nLight conditional formatting\n\n  \nWednesday\, August 27 \nDay 3: Putting It All Together \n\nCreating a monthly budget or task tracker\nTroubleshooting formula errors\nQ&A: “Why did my spreadsheet just do that?”\nExporting to PDF and printing tips
URL:https://jfamilyservice.org/event/3-day-microsoft-excel-course/2025-08-27/
LOCATION:Online via Microsoft Teams
CATEGORIES:Jewish Family Service Event,Networking & Training
ATTACH;FMTTYPE=image/png:https://jfamilyservice.org/wp-content/uploads/2025/08/Excel.png
END:VEVENT
BEGIN:VEVENT
DTSTART;TZID=America/Chicago:20250827T173000
DTEND;TZID=America/Chicago:20250827T190000
DTSTAMP:20260420T105001
CREATED:20190523T171311Z
LAST-MODIFIED:20190523T171311Z
UID:29669-1756315800-1756321200@jfamilyservice.org
SUMMARY:Men's Group
DESCRIPTION:This process-oriented therapy group covers a wide assortment of issues affecting men including interpersonal relationships\, family conflict & violence\, parenting\, dealing with unpleasant feelings\, coping with anger\, abusive experiences\, and living an honorable life. \nThis group provides an opportunity for men to gain insight\, self-awareness\, and behavioral skill and practice. \nThe group meets weekly – Wednesdays\, 5:30 p.m. to 7 p.m. Pre-registration is required.  \nFor more information\, please contact Mike Ligocki\, PhD at Jewish Family Service 972.437.9950 (ext. 307).
URL:https://jfamilyservice.org/event/mens-group/2025-08-27/
LOCATION:JFS (5402 Arapaho Road\, Dallas 75248)\, 5402 Arapaho Road\, Dallas\, TX\, 75248\, United States
CATEGORIES:Jewish Family Service Event
ORGANIZER;CN="Mike Ligocki":MAILTO:mligocki@jfamilyservice.org
GEO:32.9589497;-96.8191731
X-APPLE-STRUCTURED-LOCATION;VALUE=URI;X-ADDRESS=JFS (5402 Arapaho Road Dallas 75248) 5402 Arapaho Road Dallas TX 75248 United States;X-APPLE-RADIUS=500;X-TITLE=5402 Arapaho Road:geo:-96.8191731,32.9589497
END:VEVENT
END:VCALENDAR