BEGIN:VCALENDAR
VERSION:2.0
PRODID:-//J Family Service - ECPv6.15.20//NONSGML v1.0//EN
CALSCALE:GREGORIAN
METHOD:PUBLISH
X-WR-CALNAME:J Family Service
X-ORIGINAL-URL:https://jfamilyservice.org
X-WR-CALDESC:Events for J Family Service
REFRESH-INTERVAL;VALUE=DURATION:PT1H
X-Robots-Tag:noindex
X-PUBLISHED-TTL:PT1H
BEGIN:VTIMEZONE
TZID:America/Chicago
BEGIN:DAYLIGHT
TZOFFSETFROM:-0600
TZOFFSETTO:-0500
TZNAME:CDT
DTSTART:20240310T080000
END:DAYLIGHT
BEGIN:STANDARD
TZOFFSETFROM:-0500
TZOFFSETTO:-0600
TZNAME:CST
DTSTART:20241103T070000
END:STANDARD
BEGIN:DAYLIGHT
TZOFFSETFROM:-0600
TZOFFSETTO:-0500
TZNAME:CDT
DTSTART:20250309T080000
END:DAYLIGHT
BEGIN:STANDARD
TZOFFSETFROM:-0500
TZOFFSETTO:-0600
TZNAME:CST
DTSTART:20251102T070000
END:STANDARD
BEGIN:DAYLIGHT
TZOFFSETFROM:-0600
TZOFFSETTO:-0500
TZNAME:CDT
DTSTART:20260308T080000
END:DAYLIGHT
BEGIN:STANDARD
TZOFFSETFROM:-0500
TZOFFSETTO:-0600
TZNAME:CST
DTSTART:20261101T070000
END:STANDARD
END:VTIMEZONE
BEGIN:VEVENT
DTSTART;TZID=America/Chicago:20250506T103000
DTEND;TZID=America/Chicago:20250506T113000
DTSTAMP:20260421T115146
CREATED:20190523T170407Z
LAST-MODIFIED:20190523T170407Z
UID:28784-1746527400-1746531000@jfamilyservice.org
SUMMARY:Caring for the Caregivers (TE)
DESCRIPTION:For all family caregivers\, this group\, facilitated by an elder-care professional\, will help you learn how to best care for your loved one—and yourself. Please join us for discussion and support. First Tuesday of every month\, at 10:30 am. Temple Emanu-El\, 8500 Hillcrest\, Dallas\, TX 75225. No RSVP required. No Charge. For more information\, please contact Abby Goodman\, LCSW at agoodman@JFSdallas.org or 972.437.9950. \n  \nOpen to anyone in need\, our Caregivers Support Groups are for spouses\, adult children and other family members coping with a loved one suffering from dementia or other long-term illnesses. \nFacilitated by our licensed professionals\, these groups provide information and support to help you best care for your loved one\, while caring for yourself.
URL:https://jfamilyservice.org/event/caring-for-the-caregivers-te/2025-05-06/
LOCATION:Temple Emanu-El
CATEGORIES:Jewish Family Service Event
ORGANIZER;CN="Abby Goodman":MAILTO:agoodman@JFSdallas.org
END:VEVENT
BEGIN:VEVENT
DTSTART;TZID=America/Chicago:20250506T103000
DTEND;TZID=America/Chicago:20250506T113000
DTSTAMP:20260421T115146
CREATED:20220308T193704Z
LAST-MODIFIED:20220308T193704Z
UID:28785-1746527400-1746531000@jfamilyservice.org
SUMMARY:Caring for the Caregivers - Support Group
DESCRIPTION:1st Tuesday of the month at 10:30am \n2nd Tuesday of the month at 12:00pm \n  \nFor all family caregivers\, this group\, facilitated by an elder-care professional\, will help you learn how to best care for your loved one—and yourself. \nContact: \nAbigail Goodman\, LCSW at agoodman@jfamilyservice.org \nLicensed Clinical Social Worker\, Older Adults at Jewish Family Service of Greater Dallas \nP: 469.206.1688  I  972.437.9950 x215  I  F: 972.437.1988
URL:https://jfamilyservice.org/event/caring-for-the-caregivers-support-group/2025-05-06/
LOCATION:Other\, United States
CATEGORIES:Support Group
ORGANIZER;CN="Abby Goodman":MAILTO:agoodman@JFSdallas.org
GEO:37.09024;-95.712891
END:VEVENT
BEGIN:VEVENT
DTSTART;TZID=America/Chicago:20250506T141500
DTEND;TZID=America/Chicago:20250506T151500
DTSTAMP:20260421T115146
CREATED:20220314T161328Z
LAST-MODIFIED:20220314T161328Z
UID:28787-1746540900-1746544500@jfamilyservice.org
SUMMARY:Modified Yoga for Cancer Survivors or Individuals with Disabilities
DESCRIPTION:Two times a week at the Jewish Community Center \nContact Beth Broodo at bbroodo@jfamilyservice.org to confirm attendance.
URL:https://jfamilyservice.org/event/modified-yoga-for-cancer-survivors-or-individuals-with-disabilities/2025-05-06/
LOCATION:JCC\, 7900 Northaven Road\, Dallas\, United States
CATEGORIES:Community Event
ORGANIZER;CN="Beth Broodo":MAILTO:bbroodo@jfamilyservice.org
GEO:32.8999972;-96.7734315
X-APPLE-STRUCTURED-LOCATION;VALUE=URI;X-ADDRESS=JCC 7900 Northaven Road Dallas United States;X-APPLE-RADIUS=500;X-TITLE=7900 Northaven Road:geo:-96.7734315,32.8999972
END:VEVENT
BEGIN:VEVENT
DTSTART;TZID=America/Chicago:20250506T173000
DTEND;TZID=America/Chicago:20250506T183000
DTSTAMP:20260421T115146
CREATED:20250408T132702Z
LAST-MODIFIED:20250408T132702Z
UID:31064-1746552600-1746556200@jfamilyservice.org
SUMMARY:Social Media and Job Searching
DESCRIPTION:CLICK HERE TO REGISTER\n  \nJoin Career Coach Jason Hopper to learn how to use the power of social media in your job search. Learn how to build a professional online presence\, avoid common pitfalls\, and make your profiles work for you- not against you. \nThis session will cover: \n\nWhy a strong social media presence matters when you’re job hunting\nWhat employers look for (and what they avoid) on your profiles\nHow to effectively use LinkedIn\, X (formerly Twitter)\, Instagram\, and Facebook to find opportunities and network\n\nWhether you’re actively applying or just beginning your search\, this seminar will help you stand out online for all the right reasons. \n📍 This is an in-person seminar—come ready to learn\, practice\, and get expert feedback!
URL:https://jfamilyservice.org/event/social-media-and-job-searching-2/
LOCATION:Other\, United States
CATEGORIES:Networking & Training
ATTACH;FMTTYPE=image/png:https://jfamilyservice.org/wp-content/uploads/2025/04/Social-Media-Job-Search-2.png
GEO:37.09024;-95.712891
END:VEVENT
END:VCALENDAR