BEGIN:VCALENDAR
VERSION:2.0
PRODID:-//J Family Service - ECPv6.15.20//NONSGML v1.0//EN
CALSCALE:GREGORIAN
METHOD:PUBLISH
X-ORIGINAL-URL:https://jfamilyservice.org
X-WR-CALDESC:Events for J Family Service
REFRESH-INTERVAL;VALUE=DURATION:PT1H
X-Robots-Tag:noindex
X-PUBLISHED-TTL:PT1H
BEGIN:VTIMEZONE
TZID:America/Chicago
BEGIN:DAYLIGHT
TZOFFSETFROM:-0600
TZOFFSETTO:-0500
TZNAME:CDT
DTSTART:20240310T080000
END:DAYLIGHT
BEGIN:STANDARD
TZOFFSETFROM:-0500
TZOFFSETTO:-0600
TZNAME:CST
DTSTART:20241103T070000
END:STANDARD
BEGIN:DAYLIGHT
TZOFFSETFROM:-0600
TZOFFSETTO:-0500
TZNAME:CDT
DTSTART:20250309T080000
END:DAYLIGHT
BEGIN:STANDARD
TZOFFSETFROM:-0500
TZOFFSETTO:-0600
TZNAME:CST
DTSTART:20251102T070000
END:STANDARD
BEGIN:DAYLIGHT
TZOFFSETFROM:-0600
TZOFFSETTO:-0500
TZNAME:CDT
DTSTART:20260308T080000
END:DAYLIGHT
BEGIN:STANDARD
TZOFFSETFROM:-0500
TZOFFSETTO:-0600
TZNAME:CST
DTSTART:20261101T070000
END:STANDARD
END:VTIMEZONE
BEGIN:VEVENT
DTSTART;TZID=America/Chicago:20250220T130000
DTEND;TZID=America/Chicago:20250220T140000
DTSTAMP:20260421T213600
CREATED:20250123T185027Z
LAST-MODIFIED:20250123T185027Z
UID:30668-1740056400-1740060000@jfamilyservice.org
SUMMARY:Business Banking Basics
DESCRIPTION:CLICK HERE TO REGISTER ON EVENTBRITE\nJoin us for an informative webinar on starting a business and setting up a business bank account! \nHear from banking industry experts from Veritex Bank as they guide you through the essentials of launching your business\, including: \n\nSetting up your business with the correct documents.\nSeparating personal and business accounts — and why it matters.\nEstablishing business credit.\nExploring payment methods to accept from your customers.\n\nThis free webinar is part of our Building Financial Power series\, where each month\, experts from different banks share valuable insights on topics designed to help you build financial success.
URL:https://jfamilyservice.org/event/business-banking-basics/
LOCATION:Online
CATEGORIES:Jewish Family Service Event,Networking & Training
ATTACH;FMTTYPE=image/png:https://jfamilyservice.org/wp-content/uploads/2025/01/Veritex-Bank-BFP-1.png
END:VEVENT
END:VCALENDAR