BEGIN:VCALENDAR
VERSION:2.0
PRODID:-//J Family Service - ECPv6.15.20//NONSGML v1.0//EN
CALSCALE:GREGORIAN
METHOD:PUBLISH
X-ORIGINAL-URL:https://jfamilyservice.org
X-WR-CALDESC:Events for J Family Service
REFRESH-INTERVAL;VALUE=DURATION:PT1H
X-Robots-Tag:noindex
X-PUBLISHED-TTL:PT1H
BEGIN:VTIMEZONE
TZID:America/Chicago
BEGIN:DAYLIGHT
TZOFFSETFROM:-0600
TZOFFSETTO:-0500
TZNAME:CDT
DTSTART:20230312T080000
END:DAYLIGHT
BEGIN:STANDARD
TZOFFSETFROM:-0500
TZOFFSETTO:-0600
TZNAME:CST
DTSTART:20231105T070000
END:STANDARD
BEGIN:DAYLIGHT
TZOFFSETFROM:-0600
TZOFFSETTO:-0500
TZNAME:CDT
DTSTART:20240310T080000
END:DAYLIGHT
BEGIN:STANDARD
TZOFFSETFROM:-0500
TZOFFSETTO:-0600
TZNAME:CST
DTSTART:20241103T070000
END:STANDARD
BEGIN:DAYLIGHT
TZOFFSETFROM:-0600
TZOFFSETTO:-0500
TZNAME:CDT
DTSTART:20250309T080000
END:DAYLIGHT
BEGIN:STANDARD
TZOFFSETFROM:-0500
TZOFFSETTO:-0600
TZNAME:CST
DTSTART:20251102T070000
END:STANDARD
END:VTIMEZONE
BEGIN:VEVENT
DTSTART;TZID=America/Chicago:20241217T141500
DTEND;TZID=America/Chicago:20241217T151500
DTSTAMP:20260422T110806
CREATED:20220314T161328Z
LAST-MODIFIED:20220314T161328Z
UID:27507-1734444900-1734448500@jfamilyservice.org
SUMMARY:Modified Yoga for Cancer Survivors or Individuals with Disabilities
DESCRIPTION:Two times a week at the Jewish Community Center \nContact Beth Broodo at bbroodo@jfamilyservice.org to confirm attendance.
URL:https://jfamilyservice.org/event/modified-yoga-for-cancer-survivors-or-individuals-with-disabilities/2024-12-17/
LOCATION:JCC\, 7900 Northaven Road\, Dallas\, United States
CATEGORIES:Community Event
ORGANIZER;CN="Beth Broodo":MAILTO:bbroodo@jfamilyservice.org
GEO:32.8999972;-96.7734315
X-APPLE-STRUCTURED-LOCATION;VALUE=URI;X-ADDRESS=JCC 7900 Northaven Road Dallas United States;X-APPLE-RADIUS=500;X-TITLE=7900 Northaven Road:geo:-96.7734315,32.8999972
END:VEVENT
BEGIN:VEVENT
DTSTART;TZID=America/Chicago:20241217T173000
DTEND;TZID=America/Chicago:20241217T183000
DTSTAMP:20260422T110806
CREATED:20241114T164306Z
LAST-MODIFIED:20241114T164306Z
UID:30294-1734456600-1734460200@jfamilyservice.org
SUMMARY:Out of the Box Networking
DESCRIPTION:CLICK HERE TO REGISTER ON EVENTBRITE\nExpand Your Job Search Beyond LinkedIn! \nEveryone knows LinkedIn is the go-to social media platform for professionals\, but it’s not the only place to find your next job opportunity! In this session\, you’ll learn how to use Facebook\, Instagram\, X (formerly Twitter)\, and other social platforms to on your job search journey\, and how to think outside the box. \nWhat you’ll learn: \n\nHow social media networking can open up more job opportunities and reduce the time it takes to land your next role\nInnovative\, outside-the-box networking techniques that can help you stand out\nPractical tips and strategies for making social media work for you during your job search
URL:https://jfamilyservice.org/event/out-of-the-box-networking-2/
LOCATION:Plano Workforce Solutions\, 1101 Resource Drive\, Plano\, 75074
CATEGORIES:Jewish Family Service Event,Networking & Training
ATTACH;FMTTYPE=image/png:https://jfamilyservice.org/wp-content/uploads/2024/11/out-of-the-box-1.png
END:VEVENT
END:VCALENDAR