BEGIN:VCALENDAR
VERSION:2.0
PRODID:-//J Family Service - ECPv6.15.20//NONSGML v1.0//EN
CALSCALE:GREGORIAN
METHOD:PUBLISH
X-WR-CALNAME:J Family Service
X-ORIGINAL-URL:https://jfamilyservice.org
X-WR-CALDESC:Events for J Family Service
REFRESH-INTERVAL;VALUE=DURATION:PT1H
X-Robots-Tag:noindex
X-PUBLISHED-TTL:PT1H
BEGIN:VTIMEZONE
TZID:America/Chicago
BEGIN:DAYLIGHT
TZOFFSETFROM:-0600
TZOFFSETTO:-0500
TZNAME:CDT
DTSTART:20230312T080000
END:DAYLIGHT
BEGIN:STANDARD
TZOFFSETFROM:-0500
TZOFFSETTO:-0600
TZNAME:CST
DTSTART:20231105T070000
END:STANDARD
BEGIN:DAYLIGHT
TZOFFSETFROM:-0600
TZOFFSETTO:-0500
TZNAME:CDT
DTSTART:20240310T080000
END:DAYLIGHT
BEGIN:STANDARD
TZOFFSETFROM:-0500
TZOFFSETTO:-0600
TZNAME:CST
DTSTART:20241103T070000
END:STANDARD
BEGIN:DAYLIGHT
TZOFFSETFROM:-0600
TZOFFSETTO:-0500
TZNAME:CDT
DTSTART:20250309T080000
END:DAYLIGHT
BEGIN:STANDARD
TZOFFSETFROM:-0500
TZOFFSETTO:-0600
TZNAME:CST
DTSTART:20251102T070000
END:STANDARD
END:VTIMEZONE
BEGIN:VEVENT
DTSTART;TZID=America/Chicago:20241107T130000
DTEND;TZID=America/Chicago:20241107T140000
DTSTAMP:20260422T180426
CREATED:20241009T165023Z
LAST-MODIFIED:20241009T170004Z
UID:29917-1730984400-1730988000@jfamilyservice.org
SUMMARY:Banking Beyond the Branch: How to Use Online Banking Tools
DESCRIPTION:CLICK HERE TO REGISTER\nOnline banking tools can make managing your finances easier and more efficient. Join us to learn about some key tools and features commonly found in online banking platforms. These tools can help streamline your financial management and provide greater control and visibility over your money. \nThis session will be held in-person at the JCC of Dallas.
URL:https://jfamilyservice.org/event/banking-beyond-the-branch-how-to-use-online-banking-tools-2/
LOCATION:JCC\, 7900 Northaven Road\, Dallas\, United States
CATEGORIES:Networking & Training
ATTACH;FMTTYPE=image/png:https://jfamilyservice.org/wp-content/uploads/2024/10/Online-Banking-3.png
GEO:32.8999972;-96.7734315
X-APPLE-STRUCTURED-LOCATION;VALUE=URI;X-ADDRESS=JCC 7900 Northaven Road Dallas United States;X-APPLE-RADIUS=500;X-TITLE=7900 Northaven Road:geo:-96.7734315,32.8999972
END:VEVENT
END:VCALENDAR