BEGIN:VCALENDAR
VERSION:2.0
PRODID:-//J Family Service - ECPv6.15.20//NONSGML v1.0//EN
CALSCALE:GREGORIAN
METHOD:PUBLISH
X-WR-CALNAME:J Family Service
X-ORIGINAL-URL:https://jfamilyservice.org
X-WR-CALDESC:Events for J Family Service
REFRESH-INTERVAL;VALUE=DURATION:PT1H
X-Robots-Tag:noindex
X-PUBLISHED-TTL:PT1H
BEGIN:VTIMEZONE
TZID:America/Chicago
BEGIN:DAYLIGHT
TZOFFSETFROM:-0600
TZOFFSETTO:-0500
TZNAME:CDT
DTSTART:20230312T080000
END:DAYLIGHT
BEGIN:STANDARD
TZOFFSETFROM:-0500
TZOFFSETTO:-0600
TZNAME:CST
DTSTART:20231105T070000
END:STANDARD
BEGIN:DAYLIGHT
TZOFFSETFROM:-0600
TZOFFSETTO:-0500
TZNAME:CDT
DTSTART:20240310T080000
END:DAYLIGHT
BEGIN:STANDARD
TZOFFSETFROM:-0500
TZOFFSETTO:-0600
TZNAME:CST
DTSTART:20241103T070000
END:STANDARD
BEGIN:DAYLIGHT
TZOFFSETFROM:-0600
TZOFFSETTO:-0500
TZNAME:CDT
DTSTART:20250309T080000
END:DAYLIGHT
BEGIN:STANDARD
TZOFFSETFROM:-0500
TZOFFSETTO:-0600
TZNAME:CST
DTSTART:20251102T070000
END:STANDARD
END:VTIMEZONE
BEGIN:VEVENT
DTSTART;TZID=America/Chicago:20241105T103000
DTEND;TZID=America/Chicago:20241105T113000
DTSTAMP:20260422T180425
CREATED:20190523T170407Z
LAST-MODIFIED:20190523T170407Z
UID:27338-1730802600-1730806200@jfamilyservice.org
SUMMARY:Caring for the Caregivers (TE)
DESCRIPTION:For all family caregivers\, this group\, facilitated by an elder-care professional\, will help you learn how to best care for your loved one—and yourself. Please join us for discussion and support. First Tuesday of every month\, at 10:30 am. Temple Emanu-El\, 8500 Hillcrest\, Dallas\, TX 75225. No RSVP required. No Charge. For more information\, please contact Abby Goodman\, LCSW at agoodman@JFSdallas.org or 972.437.9950. \n  \nOpen to anyone in need\, our Caregivers Support Groups are for spouses\, adult children and other family members coping with a loved one suffering from dementia or other long-term illnesses. \nFacilitated by our licensed professionals\, these groups provide information and support to help you best care for your loved one\, while caring for yourself.
URL:https://jfamilyservice.org/event/caring-for-the-caregivers-te/2024-11-05/
LOCATION:Temple Emanu-El
CATEGORIES:Jewish Family Service Event
ORGANIZER;CN="Abby Goodman":MAILTO:agoodman@JFSdallas.org
END:VEVENT
BEGIN:VEVENT
DTSTART;TZID=America/Chicago:20241105T103000
DTEND;TZID=America/Chicago:20241105T113000
DTSTAMP:20260422T180425
CREATED:20220308T193704Z
LAST-MODIFIED:20220308T193704Z
UID:27339-1730802600-1730806200@jfamilyservice.org
SUMMARY:Caring for the Caregivers - Support Group
DESCRIPTION:1st Tuesday of the month at 10:30am \n2nd Tuesday of the month at 12:00pm \n  \nFor all family caregivers\, this group\, facilitated by an elder-care professional\, will help you learn how to best care for your loved one—and yourself. \nContact: \nAbigail Goodman\, LCSW at agoodman@jfamilyservice.org \nLicensed Clinical Social Worker\, Older Adults at Jewish Family Service of Greater Dallas \nP: 469.206.1688  I  972.437.9950 x215  I  F: 972.437.1988
URL:https://jfamilyservice.org/event/caring-for-the-caregivers-support-group/2024-11-05/
LOCATION:Other\, United States
CATEGORIES:Support Group
ORGANIZER;CN="Abby Goodman":MAILTO:agoodman@JFSdallas.org
GEO:37.09024;-95.712891
END:VEVENT
BEGIN:VEVENT
DTSTART;TZID=America/Chicago:20241105T141500
DTEND;TZID=America/Chicago:20241105T151500
DTSTAMP:20260422T180425
CREATED:20220314T161328Z
LAST-MODIFIED:20220314T161328Z
UID:27341-1730816100-1730819700@jfamilyservice.org
SUMMARY:Modified Yoga for Cancer Survivors or Individuals with Disabilities
DESCRIPTION:Two times a week at the Jewish Community Center \nContact Beth Broodo at bbroodo@jfamilyservice.org to confirm attendance.
URL:https://jfamilyservice.org/event/modified-yoga-for-cancer-survivors-or-individuals-with-disabilities/2024-11-05/
LOCATION:JCC\, 7900 Northaven Road\, Dallas\, United States
CATEGORIES:Community Event
ORGANIZER;CN="Beth Broodo":MAILTO:bbroodo@jfamilyservice.org
GEO:32.8999972;-96.7734315
X-APPLE-STRUCTURED-LOCATION;VALUE=URI;X-ADDRESS=JCC 7900 Northaven Road Dallas United States;X-APPLE-RADIUS=500;X-TITLE=7900 Northaven Road:geo:-96.7734315,32.8999972
END:VEVENT
BEGIN:VEVENT
DTSTART;TZID=America/Chicago:20241105T173000
DTEND;TZID=America/Chicago:20241105T183000
DTSTAMP:20260422T180425
CREATED:20241009T170558Z
LAST-MODIFIED:20241009T170558Z
UID:29921-1730827800-1730831400@jfamilyservice.org
SUMMARY:Resume Optimization
DESCRIPTION:CLICK HERE TO REGISTER\nYour resume is an important piece of paper that can show an employer who you are\, and the skills you have to offer. But is your resume effectively showcasing your skills and experiences\, or is it just a lot of words on paper? \nJoin JFS Career Coach Jason Hopper for this in-person event at Plano Workforce Solutions\, and learn how to optimize your resume. Learn how to capture the attention of your future employer\, craft an industry-specific resume\, and create a resume that engages people!
URL:https://jfamilyservice.org/event/resume-optimization-2/
LOCATION:Plano Workforce Solutions\, 1101 Resource Drive\, Plano\, 75074
CATEGORIES:Networking & Training
ATTACH;FMTTYPE=image/png:https://jfamilyservice.org/wp-content/uploads/2024/10/Resume-Optimization.png
END:VEVENT
END:VCALENDAR