BEGIN:VCALENDAR
VERSION:2.0
PRODID:-//J Family Service - ECPv6.15.20//NONSGML v1.0//EN
CALSCALE:GREGORIAN
METHOD:PUBLISH
X-WR-CALNAME:J Family Service
X-ORIGINAL-URL:https://jfamilyservice.org
X-WR-CALDESC:Events for J Family Service
REFRESH-INTERVAL;VALUE=DURATION:PT1H
X-Robots-Tag:noindex
X-PUBLISHED-TTL:PT1H
BEGIN:VTIMEZONE
TZID:America/Chicago
BEGIN:DAYLIGHT
TZOFFSETFROM:-0600
TZOFFSETTO:-0500
TZNAME:CDT
DTSTART:20230312T080000
END:DAYLIGHT
BEGIN:STANDARD
TZOFFSETFROM:-0500
TZOFFSETTO:-0600
TZNAME:CST
DTSTART:20231105T070000
END:STANDARD
BEGIN:DAYLIGHT
TZOFFSETFROM:-0600
TZOFFSETTO:-0500
TZNAME:CDT
DTSTART:20240310T080000
END:DAYLIGHT
BEGIN:STANDARD
TZOFFSETFROM:-0500
TZOFFSETTO:-0600
TZNAME:CST
DTSTART:20241103T070000
END:STANDARD
BEGIN:DAYLIGHT
TZOFFSETFROM:-0600
TZOFFSETTO:-0500
TZNAME:CDT
DTSTART:20250309T080000
END:DAYLIGHT
BEGIN:STANDARD
TZOFFSETFROM:-0500
TZOFFSETTO:-0600
TZNAME:CST
DTSTART:20251102T070000
END:STANDARD
END:VTIMEZONE
BEGIN:VEVENT
DTSTART;TZID=America/Chicago:20240607T110000
DTEND;TZID=America/Chicago:20240607T123000
DTSTAMP:20260424T162910
CREATED:20240513T190047Z
LAST-MODIFIED:20240513T190047Z
UID:28810-1717758000-1717763400@jfamilyservice.org
SUMMARY:Microsoft Word Training
DESCRIPTION:Join Career Services Manager\, Phil Konecki for an immersive 5-day class that will empower you with essential skills and concepts to become a proficient user of the world’s most powerful word processing tool! \nMicrosoft Word is used by millions worldwide for creating\, editing\, and formatting documents. Whether you’re a beginner or an experienced user seeking a refresher course\, this interactive zoom class is made to meet your needs. . \nThroughout the free 5-day program\, you will learn skills including: \n\nProgram terminology\nFile types\nEntering/editing text\nFormatting (including non-printed characters\nBullets/numbers\nAlignment\nIndents\nTab stops\nColumns\nTables\nRaster/vector graphics\n& much more!\n\nBy the end of this course\, you’ll have the confidence and expertise to create professional documents efficiently\, saving you time and effort in your personal and professional life! If you have any questions\, please reach out to Career Services Manager\, Phil Konecki\, at pkonecki@jfamilyservice.org \nTO SIGN UP FOR THE COURSE PLEASE CLICK THIS LINK
URL:https://jfamilyservice.org/event/microsoft-word-training-3/2024-06-07/
LOCATION:Online
CATEGORIES:Jewish Family Service Event,Networking & Training
ATTACH;FMTTYPE=image/jpeg:https://jfamilyservice.org/wp-content/uploads/2024/05/https___cdn.evbuc_.com_images_762582709_529164626561_1_original.jpg
END:VEVENT
BEGIN:VEVENT
DTSTART;TZID=America/Chicago:20240606T110000
DTEND;TZID=America/Chicago:20240606T123000
DTSTAMP:20260424T162910
CREATED:20240513T190047Z
LAST-MODIFIED:20240513T190047Z
UID:28809-1717671600-1717677000@jfamilyservice.org
SUMMARY:Microsoft Word Training
DESCRIPTION:Join Career Services Manager\, Phil Konecki for an immersive 5-day class that will empower you with essential skills and concepts to become a proficient user of the world’s most powerful word processing tool! \nMicrosoft Word is used by millions worldwide for creating\, editing\, and formatting documents. Whether you’re a beginner or an experienced user seeking a refresher course\, this interactive zoom class is made to meet your needs. . \nThroughout the free 5-day program\, you will learn skills including: \n\nProgram terminology\nFile types\nEntering/editing text\nFormatting (including non-printed characters\nBullets/numbers\nAlignment\nIndents\nTab stops\nColumns\nTables\nRaster/vector graphics\n& much more!\n\nBy the end of this course\, you’ll have the confidence and expertise to create professional documents efficiently\, saving you time and effort in your personal and professional life! If you have any questions\, please reach out to Career Services Manager\, Phil Konecki\, at pkonecki@jfamilyservice.org \nTO SIGN UP FOR THE COURSE PLEASE CLICK THIS LINK
URL:https://jfamilyservice.org/event/microsoft-word-training-3/2024-06-06/
LOCATION:Online
CATEGORIES:Jewish Family Service Event,Networking & Training
ATTACH;FMTTYPE=image/jpeg:https://jfamilyservice.org/wp-content/uploads/2024/05/https___cdn.evbuc_.com_images_762582709_529164626561_1_original.jpg
END:VEVENT
BEGIN:VEVENT
DTSTART;TZID=America/Chicago:20240605T110000
DTEND;TZID=America/Chicago:20240605T123000
DTSTAMP:20260424T162910
CREATED:20240513T190047Z
LAST-MODIFIED:20240513T190047Z
UID:28808-1717585200-1717590600@jfamilyservice.org
SUMMARY:Microsoft Word Training
DESCRIPTION:Join Career Services Manager\, Phil Konecki for an immersive 5-day class that will empower you with essential skills and concepts to become a proficient user of the world’s most powerful word processing tool! \nMicrosoft Word is used by millions worldwide for creating\, editing\, and formatting documents. Whether you’re a beginner or an experienced user seeking a refresher course\, this interactive zoom class is made to meet your needs. . \nThroughout the free 5-day program\, you will learn skills including: \n\nProgram terminology\nFile types\nEntering/editing text\nFormatting (including non-printed characters\nBullets/numbers\nAlignment\nIndents\nTab stops\nColumns\nTables\nRaster/vector graphics\n& much more!\n\nBy the end of this course\, you’ll have the confidence and expertise to create professional documents efficiently\, saving you time and effort in your personal and professional life! If you have any questions\, please reach out to Career Services Manager\, Phil Konecki\, at pkonecki@jfamilyservice.org \nTO SIGN UP FOR THE COURSE PLEASE CLICK THIS LINK
URL:https://jfamilyservice.org/event/microsoft-word-training-3/2024-06-05/
LOCATION:Online
CATEGORIES:Jewish Family Service Event,Networking & Training
ATTACH;FMTTYPE=image/jpeg:https://jfamilyservice.org/wp-content/uploads/2024/05/https___cdn.evbuc_.com_images_762582709_529164626561_1_original.jpg
END:VEVENT
BEGIN:VEVENT
DTSTART;TZID=America/Chicago:20240604T110000
DTEND;TZID=America/Chicago:20240604T123000
DTSTAMP:20260424T162910
CREATED:20240513T190047Z
LAST-MODIFIED:20240513T190047Z
UID:28807-1717498800-1717504200@jfamilyservice.org
SUMMARY:Microsoft Word Training
DESCRIPTION:Join Career Services Manager\, Phil Konecki for an immersive 5-day class that will empower you with essential skills and concepts to become a proficient user of the world’s most powerful word processing tool! \nMicrosoft Word is used by millions worldwide for creating\, editing\, and formatting documents. Whether you’re a beginner or an experienced user seeking a refresher course\, this interactive zoom class is made to meet your needs. . \nThroughout the free 5-day program\, you will learn skills including: \n\nProgram terminology\nFile types\nEntering/editing text\nFormatting (including non-printed characters\nBullets/numbers\nAlignment\nIndents\nTab stops\nColumns\nTables\nRaster/vector graphics\n& much more!\n\nBy the end of this course\, you’ll have the confidence and expertise to create professional documents efficiently\, saving you time and effort in your personal and professional life! If you have any questions\, please reach out to Career Services Manager\, Phil Konecki\, at pkonecki@jfamilyservice.org \nTO SIGN UP FOR THE COURSE PLEASE CLICK THIS LINK
URL:https://jfamilyservice.org/event/microsoft-word-training-3/2024-06-04/
LOCATION:Online
CATEGORIES:Jewish Family Service Event,Networking & Training
ATTACH;FMTTYPE=image/jpeg:https://jfamilyservice.org/wp-content/uploads/2024/05/https___cdn.evbuc_.com_images_762582709_529164626561_1_original.jpg
END:VEVENT
BEGIN:VEVENT
DTSTART;TZID=America/Chicago:20240603T110000
DTEND;TZID=America/Chicago:20240603T123000
DTSTAMP:20260424T162910
CREATED:20240513T190047Z
LAST-MODIFIED:20240513T190047Z
UID:28805-1717412400-1717417800@jfamilyservice.org
SUMMARY:Microsoft Word Training
DESCRIPTION:Join Career Services Manager\, Phil Konecki for an immersive 5-day class that will empower you with essential skills and concepts to become a proficient user of the world’s most powerful word processing tool! \nMicrosoft Word is used by millions worldwide for creating\, editing\, and formatting documents. Whether you’re a beginner or an experienced user seeking a refresher course\, this interactive zoom class is made to meet your needs. . \nThroughout the free 5-day program\, you will learn skills including: \n\nProgram terminology\nFile types\nEntering/editing text\nFormatting (including non-printed characters\nBullets/numbers\nAlignment\nIndents\nTab stops\nColumns\nTables\nRaster/vector graphics\n& much more!\n\nBy the end of this course\, you’ll have the confidence and expertise to create professional documents efficiently\, saving you time and effort in your personal and professional life! If you have any questions\, please reach out to Career Services Manager\, Phil Konecki\, at pkonecki@jfamilyservice.org \nTO SIGN UP FOR THE COURSE PLEASE CLICK THIS LINK
URL:https://jfamilyservice.org/event/microsoft-word-training-3/2024-06-03/
LOCATION:Online
CATEGORIES:Jewish Family Service Event,Networking & Training
ATTACH;FMTTYPE=image/jpeg:https://jfamilyservice.org/wp-content/uploads/2024/05/https___cdn.evbuc_.com_images_762582709_529164626561_1_original.jpg
END:VEVENT
END:VCALENDAR