BEGIN:VCALENDAR
VERSION:2.0
PRODID:-//J Family Service - ECPv6.15.20//NONSGML v1.0//EN
CALSCALE:GREGORIAN
METHOD:PUBLISH
X-ORIGINAL-URL:https://jfamilyservice.org
X-WR-CALDESC:Events for J Family Service
REFRESH-INTERVAL;VALUE=DURATION:PT1H
X-Robots-Tag:noindex
X-PUBLISHED-TTL:PT1H
BEGIN:VTIMEZONE
TZID:America/Chicago
BEGIN:DAYLIGHT
TZOFFSETFROM:-0600
TZOFFSETTO:-0500
TZNAME:CDT
DTSTART:20230312T080000
END:DAYLIGHT
BEGIN:STANDARD
TZOFFSETFROM:-0500
TZOFFSETTO:-0600
TZNAME:CST
DTSTART:20231105T070000
END:STANDARD
BEGIN:DAYLIGHT
TZOFFSETFROM:-0600
TZOFFSETTO:-0500
TZNAME:CDT
DTSTART:20240310T080000
END:DAYLIGHT
BEGIN:STANDARD
TZOFFSETFROM:-0500
TZOFFSETTO:-0600
TZNAME:CST
DTSTART:20241103T070000
END:STANDARD
BEGIN:DAYLIGHT
TZOFFSETFROM:-0600
TZOFFSETTO:-0500
TZNAME:CDT
DTSTART:20250309T080000
END:DAYLIGHT
BEGIN:STANDARD
TZOFFSETFROM:-0500
TZOFFSETTO:-0600
TZNAME:CST
DTSTART:20251102T070000
END:STANDARD
END:VTIMEZONE
BEGIN:VEVENT
DTSTART;TZID=America/Chicago:20240108T110000
DTEND;TZID=America/Chicago:20240108T123000
DTSTAMP:20260425T061342
CREATED:20231223T004329Z
LAST-MODIFIED:20231223T012532Z
UID:27520-1704711600-1704717000@jfamilyservice.org
SUMMARY:Microsoft Word Training
DESCRIPTION:To register for this free course\, please email Phil Konecki at pkonecki@jfamilyservice.org or click here: https://us02web.zoom.us/meeting/register/tZclduGqqzorGtdbx4L__GdYXpD38GCIkoe-  \n  \nJoin Career Services Manager\, Phil Konecki for an immersive 5-day class that will empower you with essential skills and concepts to become a proficient user of the world’s most powerful word processing tool! \nMicrosoft Word is used by millions worldwide for creating\, editing\, and formatting documents. Whether you’re a beginner or an experienced user seeking a refresher course\, this interactive zoom class is made to meet your needs. . \nThroughout the free 5-day program\, you will learn skills including: \n\nProgram terminology\nFile types\nEntering/editing text\nFormatting (including non-printed characters\nBullets/numbers\nAlignment\nIndents\nTab stops\nColumns\nTables\nRaster/vector graphics\n& much more!\n\nBy the end of this course\, you’ll have the confidence and expertise to create professional documents efficiently\, saving you time and effort in your personal and professional life!
URL:https://jfamilyservice.org/event/microsoft-word-training-2/2024-01-08/
LOCATION:Online
CATEGORIES:Jewish Family Service Event,Networking & Training
END:VEVENT
END:VCALENDAR