BEGIN:VCALENDAR
VERSION:2.0
PRODID:-//J Family Service - ECPv6.15.20//NONSGML v1.0//EN
CALSCALE:GREGORIAN
METHOD:PUBLISH
X-ORIGINAL-URL:https://jfamilyservice.org
X-WR-CALDESC:Events for J Family Service
REFRESH-INTERVAL;VALUE=DURATION:PT1H
X-Robots-Tag:noindex
X-PUBLISHED-TTL:PT1H
BEGIN:VTIMEZONE
TZID:America/Chicago
BEGIN:DAYLIGHT
TZOFFSETFROM:-0600
TZOFFSETTO:-0500
TZNAME:CDT
DTSTART:20170312T080000
END:DAYLIGHT
BEGIN:STANDARD
TZOFFSETFROM:-0500
TZOFFSETTO:-0600
TZNAME:CST
DTSTART:20171105T070000
END:STANDARD
BEGIN:DAYLIGHT
TZOFFSETFROM:-0600
TZOFFSETTO:-0500
TZNAME:CDT
DTSTART:20180311T080000
END:DAYLIGHT
BEGIN:STANDARD
TZOFFSETFROM:-0500
TZOFFSETTO:-0600
TZNAME:CST
DTSTART:20181104T070000
END:STANDARD
BEGIN:DAYLIGHT
TZOFFSETFROM:-0600
TZOFFSETTO:-0500
TZNAME:CDT
DTSTART:20190310T080000
END:DAYLIGHT
BEGIN:STANDARD
TZOFFSETFROM:-0500
TZOFFSETTO:-0600
TZNAME:CST
DTSTART:20191103T070000
END:STANDARD
END:VTIMEZONE
BEGIN:VEVENT
DTSTART;TZID=America/Chicago:20180312T183000
DTEND;TZID=America/Chicago:20180312T200000
DTSTAMP:20260420T072706
CREATED:20180308T213834Z
LAST-MODIFIED:20180308T213834Z
UID:3666-1520879400-1520884800@jfamilyservice.org
SUMMARY:Dialectical  Behavior (DBT) Group Therapy Class
DESCRIPTION:DBT is an Evidence-Based Treatment shown to be effective with: \n\nControlling life-threatening and quality of life interfering behaviors\nRegulating intense\, painful emotions\nManaging difficult interpersonal relationships\nFostering more life balance\n\nThe goal of DBT is to create a life worth living. \nThe Skill Areas are: \n\nMindfulness\nInterpersonal Effectiveness\nEmotion Regulation\nDistress Tolerance\nMiddle Path\n\nGroup Design: Adult Men and Women Candidates (must be pre-screened prior to start date of classes) and Candidate must be in Concurrent Individual Therapy.  Skills are taught in modules lasting six months and are open to new candidates at the start of a new module. \nMonday Evenings\, 6:30-8 PM \nContact: Nancy Hall\, MA\, LPC at nhall@jfamilyservice.org or 214.887.1364 x 272
URL:https://jfamilyservice.org/event/dialectical-behavior-dbt-group-therapy-class/2018-03-12/
LOCATION:JFS (5402 Arapaho Road\, Dallas 75248)\, 5402 Arapaho Road\, Dallas\, TX\, 75248\, United States
CATEGORIES:Support Group
GEO:32.9589497;-96.8191731
X-APPLE-STRUCTURED-LOCATION;VALUE=URI;X-ADDRESS=JFS (5402 Arapaho Road Dallas 75248) 5402 Arapaho Road Dallas TX 75248 United States;X-APPLE-RADIUS=500;X-TITLE=5402 Arapaho Road:geo:-96.8191731,32.9589497
END:VEVENT
END:VCALENDAR